BEGIN:VCALENDAR
VERSION:2.0
PRODID:-//welcomehomergv - ECPv6.15.20//NONSGML v1.0//EN
CALSCALE:GREGORIAN
METHOD:PUBLISH
X-ORIGINAL-URL:https://welcomehomergv.com
X-WR-CALDESC:Events for welcomehomergv
REFRESH-INTERVAL;VALUE=DURATION:PT1H
X-Robots-Tag:noindex
X-PUBLISHED-TTL:PT1H
BEGIN:VTIMEZONE
TZID:America/Chicago
BEGIN:DAYLIGHT
TZOFFSETFROM:-0600
TZOFFSETTO:-0500
TZNAME:CDT
DTSTART:20250309T080000
END:DAYLIGHT
BEGIN:STANDARD
TZOFFSETFROM:-0500
TZOFFSETTO:-0600
TZNAME:CST
DTSTART:20251102T070000
END:STANDARD
BEGIN:DAYLIGHT
TZOFFSETFROM:-0600
TZOFFSETTO:-0500
TZNAME:CDT
DTSTART:20260308T080000
END:DAYLIGHT
BEGIN:STANDARD
TZOFFSETFROM:-0500
TZOFFSETTO:-0600
TZNAME:CST
DTSTART:20261101T070000
END:STANDARD
BEGIN:DAYLIGHT
TZOFFSETFROM:-0600
TZOFFSETTO:-0500
TZNAME:CDT
DTSTART:20270314T080000
END:DAYLIGHT
BEGIN:STANDARD
TZOFFSETFROM:-0500
TZOFFSETTO:-0600
TZNAME:CST
DTSTART:20271107T070000
END:STANDARD
END:VTIMEZONE
BEGIN:VEVENT
DTSTART;TZID=America/Chicago:20260729T190000
DTEND;TZID=America/Chicago:20260729T220000
DTSTAMP:20260425T061636
CREATED:20260403T185404Z
LAST-MODIFIED:20260403T185414Z
UID:10007046-1785351600-1785362400@welcomehomergv.com
SUMMARY:Dance w/Steven May & The Southern Knights
DESCRIPTION:
URL:https://welcomehomergv.com/event/dance-w-steven-may-the-southern-knights-37/
LOCATION:Tip O Texas RV Resort\, 101 E. Sioux Road\, Pharr\, TX\, United States
CATEGORIES:Dances
GEO:26.2198864;-98.1755144
X-APPLE-STRUCTURED-LOCATION;VALUE=URI;X-ADDRESS=Tip O Texas RV Resort 101 E. Sioux Road Pharr TX United States;X-APPLE-RADIUS=500;X-TITLE=101 E. Sioux Road:geo:-98.1755144,26.2198864
END:VEVENT
BEGIN:VEVENT
DTSTART;TZID=America/Chicago:20260730T180000
DTEND;TZID=America/Chicago:20260730T210000
DTSTAMP:20260425T061636
CREATED:20260403T161638Z
LAST-MODIFIED:20260403T161647Z
UID:10006991-1785434400-1785445200@welcomehomergv.com
SUMMARY:Dance w/Texas Storm
DESCRIPTION:
URL:https://welcomehomergv.com/event/dance-w-texas-storm/
LOCATION:Bit-O-Heaven RV and MH Resort\, 1051 W. Business Hwy. 83\, Donna\, TX\, United States
CATEGORIES:Dances
GEO:26.1721418;-98.0915416
X-APPLE-STRUCTURED-LOCATION;VALUE=URI;X-ADDRESS=Bit-O-Heaven RV and MH Resort 1051 W. Business Hwy. 83 Donna TX United States;X-APPLE-RADIUS=500;X-TITLE=1051 W. Business Hwy. 83:geo:-98.0915416,26.1721418
END:VEVENT
BEGIN:VEVENT
DTSTART;TZID=America/Chicago:20260801T190000
DTEND;TZID=America/Chicago:20260801T210000
DTSTAMP:20260425T061636
CREATED:20260325T174941Z
LAST-MODIFIED:20260325T174953Z
UID:10006916-1785610800-1785618000@welcomehomergv.com
SUMMARY:Dance w/Vinyl Spin
DESCRIPTION:
URL:https://welcomehomergv.com/event/dance-w-vinyl-spin-5/
LOCATION:Snow to Sun RV Resort\, 1701 N. International Blvd.\, Weslaco\, TX\, United States
CATEGORIES:Dances
GEO:26.1791207;-97.9613296
X-APPLE-STRUCTURED-LOCATION;VALUE=URI;X-ADDRESS=Snow to Sun RV Resort 1701 N. International Blvd. Weslaco TX United States;X-APPLE-RADIUS=500;X-TITLE=1701 N. International Blvd.:geo:-97.9613296,26.1791207
END:VEVENT
BEGIN:VEVENT
DTSTART;TZID=America/Chicago:20260805T190000
DTEND;TZID=America/Chicago:20260805T220000
DTSTAMP:20260425T061636
CREATED:20260403T185404Z
LAST-MODIFIED:20260403T185414Z
UID:10007047-1785956400-1785967200@welcomehomergv.com
SUMMARY:Dance w/Steven May & The Southern Knights
DESCRIPTION:
URL:https://welcomehomergv.com/event/dance-w-steven-may-the-southern-knights-39/
LOCATION:Tip O Texas RV Resort\, 101 E. Sioux Road\, Pharr\, TX\, United States
CATEGORIES:Dances
GEO:26.2198864;-98.1755144
X-APPLE-STRUCTURED-LOCATION;VALUE=URI;X-ADDRESS=Tip O Texas RV Resort 101 E. Sioux Road Pharr TX United States;X-APPLE-RADIUS=500;X-TITLE=101 E. Sioux Road:geo:-98.1755144,26.2198864
END:VEVENT
BEGIN:VEVENT
DTSTART;TZID=America/Chicago:20260806T180000
DTEND;TZID=America/Chicago:20260806T210000
DTSTAMP:20260425T061636
CREATED:20260403T161639Z
LAST-MODIFIED:20260403T161647Z
UID:10006992-1786039200-1786050000@welcomehomergv.com
SUMMARY:Laua Dance w/Steven May & The Southern Knights
DESCRIPTION:
URL:https://welcomehomergv.com/event/laua-dance-w-steven-may-the-southern-knights/
LOCATION:Bit-O-Heaven RV and MH Resort\, 1051 W. Business Hwy. 83\, Donna\, TX\, United States
CATEGORIES:Dances
GEO:26.1721418;-98.0915416
X-APPLE-STRUCTURED-LOCATION;VALUE=URI;X-ADDRESS=Bit-O-Heaven RV and MH Resort 1051 W. Business Hwy. 83 Donna TX United States;X-APPLE-RADIUS=500;X-TITLE=1051 W. Business Hwy. 83:geo:-98.0915416,26.1721418
END:VEVENT
BEGIN:VEVENT
DTSTART;TZID=America/Chicago:20260808T190000
DTEND;TZID=America/Chicago:20260808T210000
DTSTAMP:20260425T061636
CREATED:20260325T174942Z
LAST-MODIFIED:20260325T174953Z
UID:10006917-1786215600-1786222800@welcomehomergv.com
SUMMARY:Dance w/Steven May & The Southern Knights
DESCRIPTION:
URL:https://welcomehomergv.com/event/dance-w-steven-may-the-southern-knights-12/
LOCATION:Snow to Sun RV Resort\, 1701 N. International Blvd.\, Weslaco\, TX\, United States
CATEGORIES:Dances
GEO:26.1791207;-97.9613296
X-APPLE-STRUCTURED-LOCATION;VALUE=URI;X-ADDRESS=Snow to Sun RV Resort 1701 N. International Blvd. Weslaco TX United States;X-APPLE-RADIUS=500;X-TITLE=1701 N. International Blvd.:geo:-97.9613296,26.1791207
END:VEVENT
BEGIN:VEVENT
DTSTART;TZID=America/Chicago:20260812T190000
DTEND;TZID=America/Chicago:20260812T220000
DTSTAMP:20260425T061636
CREATED:20260403T185405Z
LAST-MODIFIED:20260403T185414Z
UID:10007048-1786561200-1786572000@welcomehomergv.com
SUMMARY:Dance w/Steven May & The Southern Knights
DESCRIPTION:
URL:https://welcomehomergv.com/event/dance-w-steven-may-the-southern-knights-40/
LOCATION:Tip O Texas RV Resort\, 101 E. Sioux Road\, Pharr\, TX\, United States
CATEGORIES:Dances
GEO:26.2198864;-98.1755144
X-APPLE-STRUCTURED-LOCATION;VALUE=URI;X-ADDRESS=Tip O Texas RV Resort 101 E. Sioux Road Pharr TX United States;X-APPLE-RADIUS=500;X-TITLE=101 E. Sioux Road:geo:-98.1755144,26.2198864
END:VEVENT
BEGIN:VEVENT
DTSTART;TZID=America/Chicago:20260813T180000
DTEND;TZID=America/Chicago:20260813T210000
DTSTAMP:20260425T061636
CREATED:20260403T161640Z
LAST-MODIFIED:20260403T161647Z
UID:10006993-1786644000-1786654800@welcomehomergv.com
SUMMARY:Dance w/Gatos Locos
DESCRIPTION:
URL:https://welcomehomergv.com/event/dance-w-gatos-locos-3/
LOCATION:Bit-O-Heaven RV and MH Resort\, 1051 W. Business Hwy. 83\, Donna\, TX\, United States
CATEGORIES:Dances
GEO:26.1721418;-98.0915416
X-APPLE-STRUCTURED-LOCATION;VALUE=URI;X-ADDRESS=Bit-O-Heaven RV and MH Resort 1051 W. Business Hwy. 83 Donna TX United States;X-APPLE-RADIUS=500;X-TITLE=1051 W. Business Hwy. 83:geo:-98.0915416,26.1721418
END:VEVENT
BEGIN:VEVENT
DTSTART;TZID=America/Chicago:20260815T190000
DTEND;TZID=America/Chicago:20260815T210000
DTSTAMP:20260425T061636
CREATED:20260325T174942Z
LAST-MODIFIED:20260325T174953Z
UID:10006918-1786820400-1786827600@welcomehomergv.com
SUMMARY:Dance w/Southern Vibes
DESCRIPTION:
URL:https://welcomehomergv.com/event/dance-w-southern-vibes/
LOCATION:Snow to Sun RV Resort\, 1701 N. International Blvd.\, Weslaco\, TX\, United States
CATEGORIES:Dances
GEO:26.1791207;-97.9613296
X-APPLE-STRUCTURED-LOCATION;VALUE=URI;X-ADDRESS=Snow to Sun RV Resort 1701 N. International Blvd. Weslaco TX United States;X-APPLE-RADIUS=500;X-TITLE=1701 N. International Blvd.:geo:-97.9613296,26.1791207
END:VEVENT
BEGIN:VEVENT
DTSTART;TZID=America/Chicago:20260819T190000
DTEND;TZID=America/Chicago:20260819T220000
DTSTAMP:20260425T061636
CREATED:20260403T185406Z
LAST-MODIFIED:20260403T185414Z
UID:10007049-1787166000-1787176800@welcomehomergv.com
SUMMARY:Dance w/Steven May & The Southern Knights
DESCRIPTION:
URL:https://welcomehomergv.com/event/dance-w-steven-may-the-southern-knights-41/
LOCATION:Tip O Texas RV Resort\, 101 E. Sioux Road\, Pharr\, TX\, United States
CATEGORIES:Dances
GEO:26.2198864;-98.1755144
X-APPLE-STRUCTURED-LOCATION;VALUE=URI;X-ADDRESS=Tip O Texas RV Resort 101 E. Sioux Road Pharr TX United States;X-APPLE-RADIUS=500;X-TITLE=101 E. Sioux Road:geo:-98.1755144,26.2198864
END:VEVENT
BEGIN:VEVENT
DTSTART;TZID=America/Chicago:20260820T180000
DTEND;TZID=America/Chicago:20260820T210000
DTSTAMP:20260425T061636
CREATED:20260403T161641Z
LAST-MODIFIED:20260403T161647Z
UID:10006994-1787248800-1787259600@welcomehomergv.com
SUMMARY:Dance w/Vinyl Spin
DESCRIPTION:
URL:https://welcomehomergv.com/event/dance-w-vinyl-spin-8/
LOCATION:Bit-O-Heaven RV and MH Resort\, 1051 W. Business Hwy. 83\, Donna\, TX\, United States
CATEGORIES:Dances
GEO:26.1721418;-98.0915416
X-APPLE-STRUCTURED-LOCATION;VALUE=URI;X-ADDRESS=Bit-O-Heaven RV and MH Resort 1051 W. Business Hwy. 83 Donna TX United States;X-APPLE-RADIUS=500;X-TITLE=1051 W. Business Hwy. 83:geo:-98.0915416,26.1721418
END:VEVENT
BEGIN:VEVENT
DTSTART;TZID=America/Chicago:20260822T190000
DTEND;TZID=America/Chicago:20260822T210000
DTSTAMP:20260425T061636
CREATED:20260325T174943Z
LAST-MODIFIED:20260325T174953Z
UID:10006919-1787425200-1787432400@welcomehomergv.com
SUMMARY:Dance w/Steven May & The Southern Knights
DESCRIPTION:
URL:https://welcomehomergv.com/event/dance-w-steven-may-the-southern-knights-13/
LOCATION:Snow to Sun RV Resort\, 1701 N. International Blvd.\, Weslaco\, TX\, United States
CATEGORIES:Dances
GEO:26.1791207;-97.9613296
X-APPLE-STRUCTURED-LOCATION;VALUE=URI;X-ADDRESS=Snow to Sun RV Resort 1701 N. International Blvd. Weslaco TX United States;X-APPLE-RADIUS=500;X-TITLE=1701 N. International Blvd.:geo:-97.9613296,26.1791207
END:VEVENT
BEGIN:VEVENT
DTSTART;TZID=America/Chicago:20260826T190000
DTEND;TZID=America/Chicago:20260826T220000
DTSTAMP:20260425T061636
CREATED:20260403T185407Z
LAST-MODIFIED:20260403T185414Z
UID:10007050-1787770800-1787781600@welcomehomergv.com
SUMMARY:Dance w/Steven May & The Southern Knights
DESCRIPTION:
URL:https://welcomehomergv.com/event/dance-w-steven-may-the-southern-knights-42/
LOCATION:Tip O Texas RV Resort\, 101 E. Sioux Road\, Pharr\, TX\, United States
CATEGORIES:Dances
GEO:26.2198864;-98.1755144
X-APPLE-STRUCTURED-LOCATION;VALUE=URI;X-ADDRESS=Tip O Texas RV Resort 101 E. Sioux Road Pharr TX United States;X-APPLE-RADIUS=500;X-TITLE=101 E. Sioux Road:geo:-98.1755144,26.2198864
END:VEVENT
BEGIN:VEVENT
DTSTART;TZID=America/Chicago:20260827T180000
DTEND;TZID=America/Chicago:20260827T210000
DTSTAMP:20260425T061636
CREATED:20260403T161642Z
LAST-MODIFIED:20260403T161647Z
UID:10006995-1787853600-1787864400@welcomehomergv.com
SUMMARY:Dance w/Southern Vibes
DESCRIPTION:
URL:https://welcomehomergv.com/event/dance-w-southern-vibes-4/
LOCATION:Bit-O-Heaven RV and MH Resort\, 1051 W. Business Hwy. 83\, Donna\, TX\, United States
CATEGORIES:Dances
GEO:26.1721418;-98.0915416
X-APPLE-STRUCTURED-LOCATION;VALUE=URI;X-ADDRESS=Bit-O-Heaven RV and MH Resort 1051 W. Business Hwy. 83 Donna TX United States;X-APPLE-RADIUS=500;X-TITLE=1051 W. Business Hwy. 83:geo:-98.0915416,26.1721418
END:VEVENT
BEGIN:VEVENT
DTSTART;TZID=America/Chicago:20260829T190000
DTEND;TZID=America/Chicago:20260829T210000
DTSTAMP:20260425T061636
CREATED:20260325T174944Z
LAST-MODIFIED:20260325T174953Z
UID:10006920-1788030000-1788037200@welcomehomergv.com
SUMMARY:Dance w/Steven May & The Southern Knights
DESCRIPTION:
URL:https://welcomehomergv.com/event/dance-w-steven-may-the-southern-knights-14/
LOCATION:Snow to Sun RV Resort\, 1701 N. International Blvd.\, Weslaco\, TX\, United States
CATEGORIES:Dances
GEO:26.1791207;-97.9613296
X-APPLE-STRUCTURED-LOCATION;VALUE=URI;X-ADDRESS=Snow to Sun RV Resort 1701 N. International Blvd. Weslaco TX United States;X-APPLE-RADIUS=500;X-TITLE=1701 N. International Blvd.:geo:-97.9613296,26.1791207
END:VEVENT
BEGIN:VEVENT
DTSTART;TZID=America/Chicago:20260902T190000
DTEND;TZID=America/Chicago:20260902T220000
DTSTAMP:20260425T061636
CREATED:20260403T185408Z
LAST-MODIFIED:20260403T185414Z
UID:10007051-1788375600-1788386400@welcomehomergv.com
SUMMARY:Dance w/Steven May & The Southern Knights
DESCRIPTION:
URL:https://welcomehomergv.com/event/dance-w-steven-may-the-southern-knights-43/
LOCATION:Tip O Texas RV Resort\, 101 E. Sioux Road\, Pharr\, TX\, United States
CATEGORIES:Dances
GEO:26.2198864;-98.1755144
X-APPLE-STRUCTURED-LOCATION;VALUE=URI;X-ADDRESS=Tip O Texas RV Resort 101 E. Sioux Road Pharr TX United States;X-APPLE-RADIUS=500;X-TITLE=101 E. Sioux Road:geo:-98.1755144,26.2198864
END:VEVENT
BEGIN:VEVENT
DTSTART;TZID=America/Chicago:20260903T180000
DTEND;TZID=America/Chicago:20260903T210000
DTSTAMP:20260425T061636
CREATED:20260403T161642Z
LAST-MODIFIED:20260403T161647Z
UID:10006996-1788458400-1788469200@welcomehomergv.com
SUMMARY:Dance w/Rewind
DESCRIPTION:
URL:https://welcomehomergv.com/event/dance-w-rewind-4/
LOCATION:Bit-O-Heaven RV and MH Resort\, 1051 W. Business Hwy. 83\, Donna\, TX\, United States
CATEGORIES:Dances
GEO:26.1721418;-98.0915416
X-APPLE-STRUCTURED-LOCATION;VALUE=URI;X-ADDRESS=Bit-O-Heaven RV and MH Resort 1051 W. Business Hwy. 83 Donna TX United States;X-APPLE-RADIUS=500;X-TITLE=1051 W. Business Hwy. 83:geo:-98.0915416,26.1721418
END:VEVENT
BEGIN:VEVENT
DTSTART;TZID=America/Chicago:20260905T190000
DTEND;TZID=America/Chicago:20260905T210000
DTSTAMP:20260425T061636
CREATED:20260325T174945Z
LAST-MODIFIED:20260325T174953Z
UID:10006921-1788634800-1788642000@welcomehomergv.com
SUMMARY:Dance w/Steven May & The Southern Knights
DESCRIPTION:
URL:https://welcomehomergv.com/event/dance-w-steven-may-the-southern-knights-15/
LOCATION:Snow to Sun RV Resort\, 1701 N. International Blvd.\, Weslaco\, TX\, United States
CATEGORIES:Dances
GEO:26.1791207;-97.9613296
X-APPLE-STRUCTURED-LOCATION;VALUE=URI;X-ADDRESS=Snow to Sun RV Resort 1701 N. International Blvd. Weslaco TX United States;X-APPLE-RADIUS=500;X-TITLE=1701 N. International Blvd.:geo:-97.9613296,26.1791207
END:VEVENT
BEGIN:VEVENT
DTSTART;TZID=America/Chicago:20260909T190000
DTEND;TZID=America/Chicago:20260909T220000
DTSTAMP:20260425T061636
CREATED:20260403T185408Z
LAST-MODIFIED:20260403T185414Z
UID:10007052-1788980400-1788991200@welcomehomergv.com
SUMMARY:Dance w/Steven May & The Southern Knights
DESCRIPTION:
URL:https://welcomehomergv.com/event/dance-w-steven-may-the-southern-knights-44/
LOCATION:Tip O Texas RV Resort\, 101 E. Sioux Road\, Pharr\, TX\, United States
CATEGORIES:Dances
GEO:26.2198864;-98.1755144
X-APPLE-STRUCTURED-LOCATION;VALUE=URI;X-ADDRESS=Tip O Texas RV Resort 101 E. Sioux Road Pharr TX United States;X-APPLE-RADIUS=500;X-TITLE=101 E. Sioux Road:geo:-98.1755144,26.2198864
END:VEVENT
BEGIN:VEVENT
DTSTART;TZID=America/Chicago:20260910T180000
DTEND;TZID=America/Chicago:20260910T210000
DTSTAMP:20260425T061636
CREATED:20260403T161643Z
LAST-MODIFIED:20260403T161647Z
UID:10006997-1789063200-1789074000@welcomehomergv.com
SUMMARY:Dance w/Ron Moshier
DESCRIPTION:
URL:https://welcomehomergv.com/event/dance-w-ron-moshier-12/
LOCATION:Bit-O-Heaven RV and MH Resort\, 1051 W. Business Hwy. 83\, Donna\, TX\, United States
CATEGORIES:Dances
GEO:26.1721418;-98.0915416
X-APPLE-STRUCTURED-LOCATION;VALUE=URI;X-ADDRESS=Bit-O-Heaven RV and MH Resort 1051 W. Business Hwy. 83 Donna TX United States;X-APPLE-RADIUS=500;X-TITLE=1051 W. Business Hwy. 83:geo:-98.0915416,26.1721418
END:VEVENT
BEGIN:VEVENT
DTSTART;TZID=America/Chicago:20260912T190000
DTEND;TZID=America/Chicago:20260912T210000
DTSTAMP:20260425T061636
CREATED:20260325T174946Z
LAST-MODIFIED:20260325T174953Z
UID:10006922-1789239600-1789246800@welcomehomergv.com
SUMMARY:Dance w/Ron Moshier
DESCRIPTION:
URL:https://welcomehomergv.com/event/dance-w-ron-moshier-7/
LOCATION:Snow to Sun RV Resort\, 1701 N. International Blvd.\, Weslaco\, TX\, United States
CATEGORIES:Dances
GEO:26.1791207;-97.9613296
X-APPLE-STRUCTURED-LOCATION;VALUE=URI;X-ADDRESS=Snow to Sun RV Resort 1701 N. International Blvd. Weslaco TX United States;X-APPLE-RADIUS=500;X-TITLE=1701 N. International Blvd.:geo:-97.9613296,26.1791207
END:VEVENT
BEGIN:VEVENT
DTSTART;TZID=America/Chicago:20260916T190000
DTEND;TZID=America/Chicago:20260916T220000
DTSTAMP:20260425T061636
CREATED:20260403T185409Z
LAST-MODIFIED:20260403T185414Z
UID:10007053-1789585200-1789596000@welcomehomergv.com
SUMMARY:Dance w/Steven May & The Southern Knights
DESCRIPTION:
URL:https://welcomehomergv.com/event/dance-w-steven-may-the-southern-knights-45/
LOCATION:Tip O Texas RV Resort\, 101 E. Sioux Road\, Pharr\, TX\, United States
CATEGORIES:Dances
GEO:26.2198864;-98.1755144
X-APPLE-STRUCTURED-LOCATION;VALUE=URI;X-ADDRESS=Tip O Texas RV Resort 101 E. Sioux Road Pharr TX United States;X-APPLE-RADIUS=500;X-TITLE=101 E. Sioux Road:geo:-98.1755144,26.2198864
END:VEVENT
BEGIN:VEVENT
DTSTART;TZID=America/Chicago:20260917T180000
DTEND;TZID=America/Chicago:20260917T210000
DTSTAMP:20260425T061636
CREATED:20260403T161644Z
LAST-MODIFIED:20260403T161647Z
UID:10006998-1789668000-1789678800@welcomehomergv.com
SUMMARY:Western Dance w/Steven May & The Southern Knights
DESCRIPTION:
URL:https://welcomehomergv.com/event/western-dance-w-steven-may-the-southern-knights/
LOCATION:Bit-O-Heaven RV and MH Resort\, 1051 W. Business Hwy. 83\, Donna\, TX\, United States
CATEGORIES:Dances
GEO:26.1721418;-98.0915416
X-APPLE-STRUCTURED-LOCATION;VALUE=URI;X-ADDRESS=Bit-O-Heaven RV and MH Resort 1051 W. Business Hwy. 83 Donna TX United States;X-APPLE-RADIUS=500;X-TITLE=1051 W. Business Hwy. 83:geo:-98.0915416,26.1721418
END:VEVENT
BEGIN:VEVENT
DTSTART;TZID=America/Chicago:20260919T190000
DTEND;TZID=America/Chicago:20260919T210000
DTSTAMP:20260425T061636
CREATED:20260325T174947Z
LAST-MODIFIED:20260325T174953Z
UID:10006923-1789844400-1789851600@welcomehomergv.com
SUMMARY:Dance w/Steven May & The Southern Knights
DESCRIPTION:
URL:https://welcomehomergv.com/event/dance-w-steven-may-the-southern-knights-17/
LOCATION:Snow to Sun RV Resort\, 1701 N. International Blvd.\, Weslaco\, TX\, United States
CATEGORIES:Dances
GEO:26.1791207;-97.9613296
X-APPLE-STRUCTURED-LOCATION;VALUE=URI;X-ADDRESS=Snow to Sun RV Resort 1701 N. International Blvd. Weslaco TX United States;X-APPLE-RADIUS=500;X-TITLE=1701 N. International Blvd.:geo:-97.9613296,26.1791207
END:VEVENT
BEGIN:VEVENT
DTSTART;TZID=America/Chicago:20260923T190000
DTEND;TZID=America/Chicago:20260923T220000
DTSTAMP:20260425T061636
CREATED:20260403T185410Z
LAST-MODIFIED:20260403T185414Z
UID:10007054-1790190000-1790200800@welcomehomergv.com
SUMMARY:Dance w/Steven May & The Southern Knights
DESCRIPTION:
URL:https://welcomehomergv.com/event/dance-w-steven-may-the-southern-knights-46/
LOCATION:Tip O Texas RV Resort\, 101 E. Sioux Road\, Pharr\, TX\, United States
CATEGORIES:Dances
GEO:26.2198864;-98.1755144
X-APPLE-STRUCTURED-LOCATION;VALUE=URI;X-ADDRESS=Tip O Texas RV Resort 101 E. Sioux Road Pharr TX United States;X-APPLE-RADIUS=500;X-TITLE=101 E. Sioux Road:geo:-98.1755144,26.2198864
END:VEVENT
BEGIN:VEVENT
DTSTART;TZID=America/Chicago:20260924T180000
DTEND;TZID=America/Chicago:20260924T210000
DTSTAMP:20260425T061636
CREATED:20260403T161645Z
LAST-MODIFIED:20260403T161647Z
UID:10006999-1790272800-1790283600@welcomehomergv.com
SUMMARY:Dance w/Vinyl Spin
DESCRIPTION:
URL:https://welcomehomergv.com/event/dance-w-vinyl-spin-9/
LOCATION:Bit-O-Heaven RV and MH Resort\, 1051 W. Business Hwy. 83\, Donna\, TX\, United States
CATEGORIES:Dances
GEO:26.1721418;-98.0915416
X-APPLE-STRUCTURED-LOCATION;VALUE=URI;X-ADDRESS=Bit-O-Heaven RV and MH Resort 1051 W. Business Hwy. 83 Donna TX United States;X-APPLE-RADIUS=500;X-TITLE=1051 W. Business Hwy. 83:geo:-98.0915416,26.1721418
END:VEVENT
BEGIN:VEVENT
DTSTART;TZID=America/Chicago:20260926T190000
DTEND;TZID=America/Chicago:20260926T210000
DTSTAMP:20260425T061636
CREATED:20260325T174948Z
LAST-MODIFIED:20260325T174953Z
UID:10006924-1790449200-1790456400@welcomehomergv.com
SUMMARY:Dance w/Ron Moshier
DESCRIPTION:
URL:https://welcomehomergv.com/event/dance-w-ron-moshier-8/
LOCATION:Snow to Sun RV Resort\, 1701 N. International Blvd.\, Weslaco\, TX\, United States
CATEGORIES:Dances
GEO:26.1791207;-97.9613296
X-APPLE-STRUCTURED-LOCATION;VALUE=URI;X-ADDRESS=Snow to Sun RV Resort 1701 N. International Blvd. Weslaco TX United States;X-APPLE-RADIUS=500;X-TITLE=1701 N. International Blvd.:geo:-97.9613296,26.1791207
END:VEVENT
BEGIN:VEVENT
DTSTART;TZID=America/Chicago:20260930T190000
DTEND;TZID=America/Chicago:20260930T220000
DTSTAMP:20260425T061636
CREATED:20260403T185411Z
LAST-MODIFIED:20260403T185414Z
UID:10007055-1790794800-1790805600@welcomehomergv.com
SUMMARY:Dance w/Steven May & The Southern Knights
DESCRIPTION:
URL:https://welcomehomergv.com/event/dance-w-steven-may-the-southern-knights-47/
LOCATION:Tip O Texas RV Resort\, 101 E. Sioux Road\, Pharr\, TX\, United States
CATEGORIES:Dances
GEO:26.2198864;-98.1755144
X-APPLE-STRUCTURED-LOCATION;VALUE=URI;X-ADDRESS=Tip O Texas RV Resort 101 E. Sioux Road Pharr TX United States;X-APPLE-RADIUS=500;X-TITLE=101 E. Sioux Road:geo:-98.1755144,26.2198864
END:VEVENT
BEGIN:VEVENT
DTSTART;TZID=America/Chicago:20261001T180000
DTEND;TZID=America/Chicago:20261001T210000
DTSTAMP:20260425T061636
CREATED:20260403T161646Z
LAST-MODIFIED:20260403T161647Z
UID:10007000-1790877600-1790888400@welcomehomergv.com
SUMMARY:Dance w/Sweetwater
DESCRIPTION:
URL:https://welcomehomergv.com/event/dance-w-sweetwater/
LOCATION:Bit-O-Heaven RV and MH Resort\, 1051 W. Business Hwy. 83\, Donna\, TX\, United States
CATEGORIES:Dances
GEO:26.1721418;-98.0915416
X-APPLE-STRUCTURED-LOCATION;VALUE=URI;X-ADDRESS=Bit-O-Heaven RV and MH Resort 1051 W. Business Hwy. 83 Donna TX United States;X-APPLE-RADIUS=500;X-TITLE=1051 W. Business Hwy. 83:geo:-98.0915416,26.1721418
END:VEVENT
BEGIN:VEVENT
DTSTART;TZID=America/Chicago:20261003T190000
DTEND;TZID=America/Chicago:20261003T210000
DTSTAMP:20260425T061636
CREATED:20260325T174949Z
LAST-MODIFIED:20260325T174953Z
UID:10006925-1791054000-1791061200@welcomehomergv.com
SUMMARY:Dance w/Steven May & The Southern Knights
DESCRIPTION:
URL:https://welcomehomergv.com/event/dance-w-steven-may-the-southern-knights-18/
LOCATION:Snow to Sun RV Resort\, 1701 N. International Blvd.\, Weslaco\, TX\, United States
CATEGORIES:Dances
GEO:26.1791207;-97.9613296
X-APPLE-STRUCTURED-LOCATION;VALUE=URI;X-ADDRESS=Snow to Sun RV Resort 1701 N. International Blvd. Weslaco TX United States;X-APPLE-RADIUS=500;X-TITLE=1701 N. International Blvd.:geo:-97.9613296,26.1791207
END:VEVENT
END:VCALENDAR