BEGIN:VCALENDAR
VERSION:2.0
PRODID:-//welcomehomergv - ECPv6.15.20//NONSGML v1.0//EN
CALSCALE:GREGORIAN
METHOD:PUBLISH
X-WR-CALNAME:welcomehomergv
X-ORIGINAL-URL:https://welcomehomergv.com
X-WR-CALDESC:Events for welcomehomergv
REFRESH-INTERVAL;VALUE=DURATION:PT1H
X-Robots-Tag:noindex
X-PUBLISHED-TTL:PT1H
BEGIN:VTIMEZONE
TZID:America/Chicago
BEGIN:DAYLIGHT
TZOFFSETFROM:-0600
TZOFFSETTO:-0500
TZNAME:CDT
DTSTART:20250309T080000
END:DAYLIGHT
BEGIN:STANDARD
TZOFFSETFROM:-0500
TZOFFSETTO:-0600
TZNAME:CST
DTSTART:20251102T070000
END:STANDARD
BEGIN:DAYLIGHT
TZOFFSETFROM:-0600
TZOFFSETTO:-0500
TZNAME:CDT
DTSTART:20260308T080000
END:DAYLIGHT
BEGIN:STANDARD
TZOFFSETFROM:-0500
TZOFFSETTO:-0600
TZNAME:CST
DTSTART:20261101T070000
END:STANDARD
BEGIN:DAYLIGHT
TZOFFSETFROM:-0600
TZOFFSETTO:-0500
TZNAME:CDT
DTSTART:20270314T080000
END:DAYLIGHT
BEGIN:STANDARD
TZOFFSETFROM:-0500
TZOFFSETTO:-0600
TZNAME:CST
DTSTART:20271107T070000
END:STANDARD
END:VTIMEZONE
BEGIN:VEVENT
DTSTART;TZID=America/Chicago:20260422T190000
DTEND;TZID=America/Chicago:20260422T220000
DTSTAMP:20260425T132729
CREATED:20260403T185344Z
LAST-MODIFIED:20260403T185353Z
UID:10007032-1776884400-1776895200@welcomehomergv.com
SUMMARY:Dance w/Steven May & The Southern Knights
DESCRIPTION:
URL:https://welcomehomergv.com/event/dance-w-steven-may-the-southern-knights-23/
LOCATION:Tip O Texas RV Resort\, 101 E. Sioux Road\, Pharr\, TX\, United States
CATEGORIES:Dances
GEO:26.2198864;-98.1755144
X-APPLE-STRUCTURED-LOCATION;VALUE=URI;X-ADDRESS=Tip O Texas RV Resort 101 E. Sioux Road Pharr TX United States;X-APPLE-RADIUS=500;X-TITLE=101 E. Sioux Road:geo:-98.1755144,26.2198864
END:VEVENT
BEGIN:VEVENT
DTSTART;TZID=America/Chicago:20260422T190000
DTEND;TZID=America/Chicago:20260422T210000
DTSTAMP:20260425T132729
CREATED:20260419T233551Z
LAST-MODIFIED:20260419T233554Z
UID:10007312-1776884400-1776891600@welcomehomergv.com
SUMMARY:UTRGV Wind Orchestra & Symphonic Winds
DESCRIPTION:Come enjoy a lively performance by UTRGV Wind Orchestra & Symphonic Winds featuring music old and new\, crafting a vibrant program of excitement and beauty!
URL:https://welcomehomergv.com/event/utrgv-wind-orchestra-symphonic-winds/
LOCATION:UTRGV Performing Arts Complex\, 1201 W. University Drive\, Edinburg\, TX\, 78541\, United States
CATEGORIES:Concerts and Performing Arts
ATTACH;FMTTYPE=image/png:https://welcomehomergv.com/wp-content/uploads/2026/04/Wind-Orchestra-4-22.png
GEO:26.3045362;-98.1753298
X-APPLE-STRUCTURED-LOCATION;VALUE=URI;X-ADDRESS=UTRGV Performing Arts Complex 1201 W. University Drive Edinburg TX 78541 United States;X-APPLE-RADIUS=500;X-TITLE=1201 W. University Drive:geo:-98.1753298,26.3045362
END:VEVENT
BEGIN:VEVENT
DTSTART;TZID=America/Chicago:20260422T173000
DTEND;TZID=America/Chicago:20260422T190000
DTSTAMP:20260425T132729
CREATED:20260419T230148Z
LAST-MODIFIED:20260419T230201Z
UID:10007283-1776879000-1776884400@welcomehomergv.com
SUMMARY:Wednesday Dinner
DESCRIPTION:Hamburgers\, Hot Dogs\, Polish Sausage and concessions.
URL:https://welcomehomergv.com/event/wednesday-dinner/
LOCATION:Tip O Texas RV Resort\, 101 E. Sioux Road\, Pharr\, TX\, United States
CATEGORIES:Food and Drinks
GEO:26.2198864;-98.1755144
X-APPLE-STRUCTURED-LOCATION;VALUE=URI;X-ADDRESS=Tip O Texas RV Resort 101 E. Sioux Road Pharr TX United States;X-APPLE-RADIUS=500;X-TITLE=101 E. Sioux Road:geo:-98.1755144,26.2198864
END:VEVENT
BEGIN:VEVENT
DTSTART;TZID=America/Chicago:20260421T180000
DTEND;TZID=America/Chicago:20260421T210000
DTSTAMP:20260425T132729
CREATED:20260419T215344Z
LAST-MODIFIED:20260419T215346Z
UID:10007265-1776794400-1776805200@welcomehomergv.com
SUMMARY:Hippie Night w/The Night Howlers
DESCRIPTION:
URL:https://welcomehomergv.com/event/hippie-night-w-the-night-howlers/
LOCATION:Victoria Palms RV Resort\, 602 N. Victoria Road\, Donna\, TX\, United States
CATEGORIES:Dances
GEO:26.1711595;-98.0253822
X-APPLE-STRUCTURED-LOCATION;VALUE=URI;X-ADDRESS=Victoria Palms RV Resort 602 N. Victoria Road Donna TX United States;X-APPLE-RADIUS=500;X-TITLE=602 N. Victoria Road:geo:-98.0253822,26.1711595
END:VEVENT
BEGIN:VEVENT
DTSTART;TZID=America/Chicago:20260420T180000
DTEND;TZID=America/Chicago:20260420T210000
DTSTAMP:20260425T132729
CREATED:20260403T161614Z
LAST-MODIFIED:20260403T161625Z
UID:10006972-1776708000-1776718800@welcomehomergv.com
SUMMARY:Hippie Dance w/Ron Moshier & Vinyl Spin
DESCRIPTION:
URL:https://welcomehomergv.com/event/hippie-dance-w-ron-moshier-vinyl-spin/
LOCATION:Bit-O-Heaven RV and MH Resort\, 1051 W. Business Hwy. 83\, Donna\, TX\, United States
CATEGORIES:Dances
GEO:26.1721418;-98.0915416
X-APPLE-STRUCTURED-LOCATION;VALUE=URI;X-ADDRESS=Bit-O-Heaven RV and MH Resort 1051 W. Business Hwy. 83 Donna TX United States;X-APPLE-RADIUS=500;X-TITLE=1051 W. Business Hwy. 83:geo:-98.0915416,26.1721418
END:VEVENT
BEGIN:VEVENT
DTSTART;TZID=America/Chicago:20260420T150000
DTEND;TZID=America/Chicago:20260420T163000
DTSTAMP:20260425T132729
CREATED:20260325T182210Z
LAST-MODIFIED:20260325T182216Z
UID:10006937-1776697200-1776702600@welcomehomergv.com
SUMMARY:Happy Hour w/Diego & Edith
DESCRIPTION:
URL:https://welcomehomergv.com/event/happy-hour-w-diego-edith-4/
LOCATION:Snow to Sun RV Resort\, 1701 N. International Blvd.\, Weslaco\, TX\, United States
CATEGORIES:Happy Hour
GEO:26.1791207;-97.9613296
X-APPLE-STRUCTURED-LOCATION;VALUE=URI;X-ADDRESS=Snow to Sun RV Resort 1701 N. International Blvd. Weslaco TX United States;X-APPLE-RADIUS=500;X-TITLE=1701 N. International Blvd.:geo:-97.9613296,26.1791207
END:VEVENT
BEGIN:VEVENT
DTSTART;TZID=America/Chicago:20260418T190000
DTEND;TZID=America/Chicago:20260418T210000
DTSTAMP:20260425T132729
CREATED:20260325T174917Z
LAST-MODIFIED:20260325T174929Z
UID:10006902-1776538800-1776546000@welcomehomergv.com
SUMMARY:Dance w//Steven May & The Southern Knights
DESCRIPTION:
URL:https://welcomehomergv.com/event/dance-w-steven-may-the-southern-knights-3/
LOCATION:Snow to Sun RV Resort\, 1701 N. International Blvd.\, Weslaco\, TX\, United States
CATEGORIES:Dances
GEO:26.1791207;-97.9613296
X-APPLE-STRUCTURED-LOCATION;VALUE=URI;X-ADDRESS=Snow to Sun RV Resort 1701 N. International Blvd. Weslaco TX United States;X-APPLE-RADIUS=500;X-TITLE=1701 N. International Blvd.:geo:-97.9613296,26.1791207
END:VEVENT
BEGIN:VEVENT
DTSTART;TZID=America/Chicago:20260418T180000
DTEND;TZID=America/Chicago:20260418T210000
DTSTAMP:20260425T132729
CREATED:20260220T195257Z
LAST-MODIFIED:20260220T195259Z
UID:10006733-1776535200-1776546000@welcomehomergv.com
SUMMARY:Dance w/The Lockhart's
DESCRIPTION:
URL:https://welcomehomergv.com/event/dance-w-the-lockharts-3/
LOCATION:Enchanted Valley Ranch\, 7300 Monroe Street\, Mission\, TX\, United States
CATEGORIES:Dances
GEO:26.2427088;-98.4052302
X-APPLE-STRUCTURED-LOCATION;VALUE=URI;X-ADDRESS=Enchanted Valley Ranch 7300 Monroe Street Mission TX United States;X-APPLE-RADIUS=500;X-TITLE=7300 Monroe Street:geo:-98.4052302,26.2427088
END:VEVENT
BEGIN:VEVENT
DTSTART;TZID=America/Chicago:20260418T090000
DTEND;TZID=America/Chicago:20260418T123000
DTSTAMP:20260425T132729
CREATED:20260413T195218Z
LAST-MODIFIED:20260413T195231Z
UID:10007125-1776502800-1776515400@welcomehomergv.com
SUMMARY:Stronger Together A Cancer Patient Resource Fair
DESCRIPTION:For Cancer Patients\, Survivors & Caregivers. Connecting you with support\, services & resources.
URL:https://welcomehomergv.com/event/stronger-together-a-cancer-patient-resource-fair/
LOCATION:Valley Grande Institute for Academic Studies\, 345 S Texas Blvd\, Weslaco\, 78596
CATEGORIES:Festivals and Events
ATTACH;FMTTYPE=image/jpeg:https://welcomehomergv.com/wp-content/uploads/2026/04/11339310-8845-4342-8146-352ae10a49cc.jpeg
GEO:26.1582442;-97.9903701
X-APPLE-STRUCTURED-LOCATION;VALUE=URI;X-ADDRESS=Valley Grande Institute for Academic Studies 345 S Texas Blvd Weslaco 78596;X-APPLE-RADIUS=500;X-TITLE=345 S Texas Blvd:geo:-97.9903701,26.1582442
END:VEVENT
BEGIN:VEVENT
DTSTART;TZID=America/Chicago:20260417T160000
DTEND;TZID=America/Chicago:20260417T180000
DTSTAMP:20260425T132729
CREATED:20260220T195256Z
LAST-MODIFIED:20260220T195259Z
UID:10006732-1776441600-1776448800@welcomehomergv.com
SUMMARY:Friday Fish Fry
DESCRIPTION:
URL:https://welcomehomergv.com/event/friday-fish-fry-3/
LOCATION:Enchanted Valley Ranch\, 7300 Monroe Street\, Mission\, TX\, United States
CATEGORIES:Food and Drinks
GEO:26.2427088;-98.4052302
X-APPLE-STRUCTURED-LOCATION;VALUE=URI;X-ADDRESS=Enchanted Valley Ranch 7300 Monroe Street Mission TX United States;X-APPLE-RADIUS=500;X-TITLE=7300 Monroe Street:geo:-98.4052302,26.2427088
END:VEVENT
BEGIN:VEVENT
DTSTART;TZID=America/Chicago:20260417T150000
DTEND;TZID=America/Chicago:20260417T170000
DTSTAMP:20260425T132729
CREATED:20251030T004518Z
LAST-MODIFIED:20251030T004522Z
UID:10003988-1776438000-1776445200@welcomehomergv.com
SUMMARY:Happy Hour w/The Lady & The Outlaw
DESCRIPTION:
URL:https://welcomehomergv.com/event/happy-hour-w-the-lady-the-outlaw-6/
LOCATION:Ranchero Village Senior Resort Park\, 1900 S. Bridge Avenue\, Weslaco\, TX\, United States
CATEGORIES:Happy Hour
GEO:26.1352948;-97.984491
X-APPLE-STRUCTURED-LOCATION;VALUE=URI;X-ADDRESS=Ranchero Village Senior Resort Park 1900 S. Bridge Avenue Weslaco TX United States;X-APPLE-RADIUS=500;X-TITLE=1900 S. Bridge Avenue:geo:-97.984491,26.1352948
END:VEVENT
BEGIN:VEVENT
DTSTART;TZID=America/Chicago:20260416T180000
DTEND;TZID=America/Chicago:20260416T210000
DTSTAMP:20260425T132729
CREATED:20260403T161613Z
LAST-MODIFIED:20260403T161625Z
UID:10006971-1776362400-1776373200@welcomehomergv.com
SUMMARY:Dance w/Ron Moshier
DESCRIPTION:
URL:https://welcomehomergv.com/event/dance-w-ron-moshier-11/
LOCATION:Bit-O-Heaven RV and MH Resort\, 1051 W. Business Hwy. 83\, Donna\, TX\, United States
CATEGORIES:Dances
GEO:26.1721418;-98.0915416
X-APPLE-STRUCTURED-LOCATION;VALUE=URI;X-ADDRESS=Bit-O-Heaven RV and MH Resort 1051 W. Business Hwy. 83 Donna TX United States;X-APPLE-RADIUS=500;X-TITLE=1051 W. Business Hwy. 83:geo:-98.0915416,26.1721418
END:VEVENT
BEGIN:VEVENT
DTSTART;TZID=America/Chicago:20260415T150000
DTEND;TZID=America/Chicago:20260415T170000
DTSTAMP:20260425T132729
CREATED:20260309T191227Z
LAST-MODIFIED:20260325T231951Z
UID:10006869-1776265200-1776272400@welcomehomergv.com
SUMMARY:Summer Supper Club
DESCRIPTION:Join us this summer for our Summer Supper Club\, a relaxed monthly gathering for our “Converted Texans” to enjoy good food\, great company\, and familiar faces. Each month we’ll meet at a different local restaurant to share a meal\, catch up with friends\, and welcome new ones. \n\n\n\nThis is a dutch-treat evening\, so everyone is responsible for their own meal. Our host restaurants often offer specials for our group\, making it a fun and affordable way to explore some of the Valley’s great dining spots. \n\n\n\nPlease RSVP in advance so we can give the restaurant an idea of how many guests to expect. We look forward to seeing you around the table!
URL:https://welcomehomergv.com/event/summer-supper-club/
LOCATION:Bubba’s 33\, 2608 W Expy 83\, McAllen\, Texas\, 78501\, United States
CATEGORIES:Food and Drinks
ATTACH;FMTTYPE=image/jpeg:https://photos.smugmug.com/photos/i-NW2HtWz/0/MHcpRPHXpkd7FspKJMzwJ9ndRvS88BBzTfBqT7xdc/S/i-NW2HtWz-S.png
ORGANIZER;CN="Welcome Home RGV":MAILTO:info@welcomehomergv.com
GEO:26.1940612;-98.2529615
X-APPLE-STRUCTURED-LOCATION;VALUE=URI;X-ADDRESS=Bubba’s 33 2608 W Expy 83 McAllen Texas 78501 United States;X-APPLE-RADIUS=500;X-TITLE=2608 W Expy 83:geo:-98.2529615,26.1940612
END:VEVENT
BEGIN:VEVENT
DTSTART;TZID=America/Chicago:20260414T150000
DTEND;TZID=America/Chicago:20260414T170000
DTSTAMP:20260425T132729
CREATED:20251026T222626Z
LAST-MODIFIED:20251216T022535Z
UID:10002705-1776178800-1776186000@welcomehomergv.com
SUMMARY:Happy Hour w/Curt James
DESCRIPTION:
URL:https://welcomehomergv.com/event/happy-hour-w-curt-james-4/
LOCATION:Bit-O-Heaven RV and MH Resort\, 1051 W. Business Hwy. 83\, Donna\, TX\, United States
CATEGORIES:Happy Hour
GEO:26.1721418;-98.0915416
X-APPLE-STRUCTURED-LOCATION;VALUE=URI;X-ADDRESS=Bit-O-Heaven RV and MH Resort 1051 W. Business Hwy. 83 Donna TX United States;X-APPLE-RADIUS=500;X-TITLE=1051 W. Business Hwy. 83:geo:-98.0915416,26.1721418
END:VEVENT
BEGIN:VEVENT
DTSTART;TZID=America/Chicago:20260413T150000
DTEND;TZID=America/Chicago:20260413T163000
DTSTAMP:20260425T132729
CREATED:20260325T182209Z
LAST-MODIFIED:20260325T182216Z
UID:10006936-1776092400-1776097800@welcomehomergv.com
SUMMARY:Happy Hour w/Diego & Edith
DESCRIPTION:
URL:https://welcomehomergv.com/event/happy-hour-w-diego-edith-3/
LOCATION:Snow to Sun RV Resort\, 1701 N. International Blvd.\, Weslaco\, TX\, United States
CATEGORIES:Happy Hour
GEO:26.1791207;-97.9613296
X-APPLE-STRUCTURED-LOCATION;VALUE=URI;X-ADDRESS=Snow to Sun RV Resort 1701 N. International Blvd. Weslaco TX United States;X-APPLE-RADIUS=500;X-TITLE=1701 N. International Blvd.:geo:-97.9613296,26.1791207
END:VEVENT
BEGIN:VEVENT
DTSTART;TZID=America/Chicago:20260411T190000
DTEND;TZID=America/Chicago:20260411T210000
DTSTAMP:20260425T132729
CREATED:20260325T174916Z
LAST-MODIFIED:20260325T174929Z
UID:10006901-1775934000-1775941200@welcomehomergv.com
SUMMARY:Dance w/Ron Moshier
DESCRIPTION:
URL:https://welcomehomergv.com/event/dance-w-ron-moshier-3/
LOCATION:Snow to Sun RV Resort\, 1701 N. International Blvd.\, Weslaco\, TX\, United States
CATEGORIES:Dances
GEO:26.1791207;-97.9613296
X-APPLE-STRUCTURED-LOCATION;VALUE=URI;X-ADDRESS=Snow to Sun RV Resort 1701 N. International Blvd. Weslaco TX United States;X-APPLE-RADIUS=500;X-TITLE=1701 N. International Blvd.:geo:-97.9613296,26.1791207
END:VEVENT
BEGIN:VEVENT
DTSTART;TZID=America/Chicago:20260411T180000
DTEND;TZID=America/Chicago:20260411T210000
DTSTAMP:20260425T132729
CREATED:20260220T195254Z
LAST-MODIFIED:20260220T195259Z
UID:10006730-1775930400-1775941200@welcomehomergv.com
SUMMARY:Dance w/Bruce Boudreau
DESCRIPTION:
URL:https://welcomehomergv.com/event/dance-w-bruce-boudreau/
LOCATION:Enchanted Valley Ranch\, 7300 Monroe Street\, Mission\, TX\, United States
CATEGORIES:Dances
GEO:26.2427088;-98.4052302
X-APPLE-STRUCTURED-LOCATION;VALUE=URI;X-ADDRESS=Enchanted Valley Ranch 7300 Monroe Street Mission TX United States;X-APPLE-RADIUS=500;X-TITLE=7300 Monroe Street:geo:-98.4052302,26.2427088
END:VEVENT
BEGIN:VEVENT
DTSTART;TZID=America/Chicago:20260410T190000
DTEND;TZID=America/Chicago:20260410T220000
DTSTAMP:20260425T132729
CREATED:20260224T144602Z
LAST-MODIFIED:20260306T203232Z
UID:10006806-1775847600-1775858400@welcomehomergv.com
SUMMARY:Dance w/Leslie Blasing
DESCRIPTION:
URL:https://welcomehomergv.com/event/dance-w-leslie-blasing-2/
LOCATION:Bit-O-Heaven RV and MH Resort\, 1051 W. Business Hwy. 83\, Donna\, TX\, United States
GEO:26.1721418;-98.0915416
X-APPLE-STRUCTURED-LOCATION;VALUE=URI;X-ADDRESS=Bit-O-Heaven RV and MH Resort 1051 W. Business Hwy. 83 Donna TX United States;X-APPLE-RADIUS=500;X-TITLE=1051 W. Business Hwy. 83:geo:-98.0915416,26.1721418
END:VEVENT
BEGIN:VEVENT
DTSTART;TZID=America/Chicago:20260406T160000
DTEND;TZID=America/Chicago:20260406T180000
DTSTAMP:20260425T132729
CREATED:20260203T203504Z
LAST-MODIFIED:20260203T203506Z
UID:10006530-1775491200-1775498400@welcomehomergv.com
SUMMARY:Happy Hour w/Denim & Lace
DESCRIPTION:
URL:https://welcomehomergv.com/event/happy-hour-w-denim-lace-4/
LOCATION:Tip O Texas RV Resort\, 101 E. Sioux Road\, Pharr\, TX\, United States
CATEGORIES:Happy Hour
GEO:26.2198864;-98.1755144
X-APPLE-STRUCTURED-LOCATION;VALUE=URI;X-ADDRESS=Tip O Texas RV Resort 101 E. Sioux Road Pharr TX United States;X-APPLE-RADIUS=500;X-TITLE=101 E. Sioux Road:geo:-98.1755144,26.2198864
END:VEVENT
BEGIN:VEVENT
DTSTART;TZID=America/Chicago:20260406T150000
DTEND;TZID=America/Chicago:20260406T163000
DTSTAMP:20260425T132729
CREATED:20260325T182208Z
LAST-MODIFIED:20260325T182216Z
UID:10006935-1775487600-1775493000@welcomehomergv.com
SUMMARY:Happy Hour w/Diego & Edith
DESCRIPTION:
URL:https://welcomehomergv.com/event/happy-hour-w-diego-edith-2/
LOCATION:Snow to Sun RV Resort\, 1701 N. International Blvd.\, Weslaco\, TX\, United States
CATEGORIES:Happy Hour
GEO:26.1791207;-97.9613296
X-APPLE-STRUCTURED-LOCATION;VALUE=URI;X-ADDRESS=Snow to Sun RV Resort 1701 N. International Blvd. Weslaco TX United States;X-APPLE-RADIUS=500;X-TITLE=1701 N. International Blvd.:geo:-97.9613296,26.1791207
END:VEVENT
BEGIN:VEVENT
DTSTART;TZID=America/Chicago:20260404T190000
DTEND;TZID=America/Chicago:20260404T230000
DTSTAMP:20260425T132729
CREATED:20260217T210928Z
LAST-MODIFIED:20260217T210929Z
UID:10006689-1775329200-1775343600@welcomehomergv.com
SUMMARY:Dance w/Vintage Travelers
DESCRIPTION:
URL:https://welcomehomergv.com/event/dance-w-vintage-travelers-9/
LOCATION:American Legion Post 37\, 1305 E. Jasmine Avenue\, McAllen\, TX\, 78501\, United States
CATEGORIES:Dances
GEO:26.2101807;-98.2051081
X-APPLE-STRUCTURED-LOCATION;VALUE=URI;X-ADDRESS=American Legion Post 37 1305 E. Jasmine Avenue McAllen TX 78501 United States;X-APPLE-RADIUS=500;X-TITLE=1305 E. Jasmine Avenue:geo:-98.2051081,26.2101807
END:VEVENT
BEGIN:VEVENT
DTSTART;TZID=America/Chicago:20260404T190000
DTEND;TZID=America/Chicago:20260404T210000
DTSTAMP:20260425T132729
CREATED:20260325T174915Z
LAST-MODIFIED:20260325T174929Z
UID:10006900-1775329200-1775336400@welcomehomergv.com
SUMMARY:Dance w/Steven May & The Southern Knights
DESCRIPTION:
URL:https://welcomehomergv.com/event/dance-w-steven-may-the-southern-knights-2/
LOCATION:Snow to Sun RV Resort\, 1701 N. International Blvd.\, Weslaco\, TX\, United States
CATEGORIES:Dances
GEO:26.1791207;-97.9613296
X-APPLE-STRUCTURED-LOCATION;VALUE=URI;X-ADDRESS=Snow to Sun RV Resort 1701 N. International Blvd. Weslaco TX United States;X-APPLE-RADIUS=500;X-TITLE=1701 N. International Blvd.:geo:-97.9613296,26.1791207
END:VEVENT
BEGIN:VEVENT
DTSTART;TZID=America/Chicago:20260404T180000
DTEND;TZID=America/Chicago:20260404T210000
DTSTAMP:20260425T132729
CREATED:20260220T195243Z
LAST-MODIFIED:20260220T195244Z
UID:10006729-1775325600-1775336400@welcomehomergv.com
SUMMARY:Dance w/Vinyl Spin
DESCRIPTION:
URL:https://welcomehomergv.com/event/dance-w-vinyl-spin-2/
LOCATION:Enchanted Valley Ranch\, 7300 Monroe Street\, Mission\, TX\, United States
CATEGORIES:Dances
GEO:26.2427088;-98.4052302
X-APPLE-STRUCTURED-LOCATION;VALUE=URI;X-ADDRESS=Enchanted Valley Ranch 7300 Monroe Street Mission TX United States;X-APPLE-RADIUS=500;X-TITLE=7300 Monroe Street:geo:-98.4052302,26.2427088
END:VEVENT
BEGIN:VEVENT
DTSTART;TZID=America/Chicago:20260403T190000
DTEND;TZID=America/Chicago:20260403T220000
DTSTAMP:20260425T132729
CREATED:20260224T144403Z
LAST-MODIFIED:20260306T203232Z
UID:10006805-1775242800-1775253600@welcomehomergv.com
SUMMARY:Dance w/Rewind
DESCRIPTION:
URL:https://welcomehomergv.com/event/dance-w-rewind/
LOCATION:Bit-O-Heaven RV and MH Resort\, 1051 W. Business Hwy. 83\, Donna\, TX\, United States
GEO:26.1721418;-98.0915416
X-APPLE-STRUCTURED-LOCATION;VALUE=URI;X-ADDRESS=Bit-O-Heaven RV and MH Resort 1051 W. Business Hwy. 83 Donna TX United States;X-APPLE-RADIUS=500;X-TITLE=1051 W. Business Hwy. 83:geo:-98.0915416,26.1721418
END:VEVENT
BEGIN:VEVENT
DTSTART;TZID=America/Chicago:20260403T160000
DTEND;TZID=America/Chicago:20260403T180000
DTSTAMP:20260425T132729
CREATED:20260220T195243Z
LAST-MODIFIED:20260220T195244Z
UID:10006728-1775232000-1775239200@welcomehomergv.com
SUMMARY:Friday Fish Fry
DESCRIPTION:
URL:https://welcomehomergv.com/event/friday-fish-fry-2/
LOCATION:Enchanted Valley Ranch\, 7300 Monroe Street\, Mission\, TX\, United States
CATEGORIES:Food and Drinks
GEO:26.2427088;-98.4052302
X-APPLE-STRUCTURED-LOCATION;VALUE=URI;X-ADDRESS=Enchanted Valley Ranch 7300 Monroe Street Mission TX United States;X-APPLE-RADIUS=500;X-TITLE=7300 Monroe Street:geo:-98.4052302,26.2427088
END:VEVENT
BEGIN:VEVENT
DTSTART;TZID=America/Chicago:20260402T160000
DTEND;TZID=America/Chicago:20260402T173000
DTSTAMP:20260425T132729
CREATED:20260216T191203Z
LAST-MODIFIED:20260217T210911Z
UID:10006650-1775145600-1775151000@welcomehomergv.com
SUMMARY:Happy Hour w/Double Decker
DESCRIPTION:
URL:https://welcomehomergv.com/event/happy-hour-w-double-decker-2/
LOCATION:Tip O Texas RV Resort\, 101 E. Sioux Road\, Pharr\, TX\, United States
GEO:26.2198864;-98.1755144
X-APPLE-STRUCTURED-LOCATION;VALUE=URI;X-ADDRESS=Tip O Texas RV Resort 101 E. Sioux Road Pharr TX United States;X-APPLE-RADIUS=500;X-TITLE=101 E. Sioux Road:geo:-98.1755144,26.2198864
END:VEVENT
BEGIN:VEVENT
DTSTART;TZID=America/Chicago:20260330T160000
DTEND;TZID=America/Chicago:20260330T173000
DTSTAMP:20260425T132729
CREATED:20251026T223702Z
LAST-MODIFIED:20251026T223707Z
UID:10003265-1774886400-1774891800@welcomehomergv.com
SUMMARY:Happy Hour w/Blue Wolf
DESCRIPTION:
URL:https://welcomehomergv.com/event/happy-hour-w-blue-wolf/
LOCATION:Tip O Texas RV Resort\, 101 E. Sioux Road\, Pharr\, TX\, United States
CATEGORIES:Happy Hour
GEO:26.2198864;-98.1755144
X-APPLE-STRUCTURED-LOCATION;VALUE=URI;X-ADDRESS=Tip O Texas RV Resort 101 E. Sioux Road Pharr TX United States;X-APPLE-RADIUS=500;X-TITLE=101 E. Sioux Road:geo:-98.1755144,26.2198864
END:VEVENT
BEGIN:VEVENT
DTSTART;TZID=America/Chicago:20260329T183000
DTEND;TZID=America/Chicago:20260329T193000
DTSTAMP:20260425T132729
CREATED:20260114T210649Z
LAST-MODIFIED:20260114T210656Z
UID:10006253-1774809000-1774812600@welcomehomergv.com
SUMMARY:Diego & Edith
DESCRIPTION:
URL:https://welcomehomergv.com/event/diego-edith-4/
LOCATION:Alamo Paradise Acres\, 1513 W. Crockett Avenue\, Alamo\, TX\, United States
CATEGORIES:Entertainment
GEO:26.1801731;-98.130426
X-APPLE-STRUCTURED-LOCATION;VALUE=URI;X-ADDRESS=Alamo Paradise Acres 1513 W. Crockett Avenue Alamo TX United States;X-APPLE-RADIUS=500;X-TITLE=1513 W. Crockett Avenue:geo:-98.130426,26.1801731
END:VEVENT
BEGIN:VEVENT
DTSTART;TZID=America/Chicago:20260329T140000
DTEND;TZID=America/Chicago:20260329T160000
DTSTAMP:20260425T132729
CREATED:20260306T203735Z
LAST-MODIFIED:20260306T203741Z
UID:10006860-1774792800-1774800000@welcomehomergv.com
SUMMARY:Anna in the Tropics
DESCRIPTION:Shimmering with passion and poetry\, the Pulitzer Prize-winning drama ANNA IN THE TROPICS weaves the tale of a Cuban-American cigar factory in 1929 Florida where cigars are still rolled by hand and “lectors” are employed to transport and inspire the workers as they toil on the factory floor. As a handsome and debonair new lector reads the words of Tolstoy’s Anna Karenina\, the lives of the workers begin to parallel the novel. Old traditions and new ways collide while longing\, love\, and betrayal spark a volatile flame that signals the end of an era.
URL:https://welcomehomergv.com/event/anna-in-the-tropics-9/
LOCATION:Camille Lightner Playhouse\, 1 Dean Porter Park\, Brownsville\, TX\, 78520\, United States
CATEGORIES:Concerts and Performing Arts
GEO:25.9154789;-97.4958207
X-APPLE-STRUCTURED-LOCATION;VALUE=URI;X-ADDRESS=Camille Lightner Playhouse 1 Dean Porter Park Brownsville TX 78520 United States;X-APPLE-RADIUS=500;X-TITLE=1 Dean Porter Park:geo:-97.4958207,25.9154789
END:VEVENT
BEGIN:VEVENT
DTSTART;TZID=America/Chicago:20260329T090000
DTEND;TZID=America/Chicago:20260329T110000
DTSTAMP:20260425T132729
CREATED:20260302T202443Z
LAST-MODIFIED:20260306T203232Z
UID:10006810-1774774800-1774782000@welcomehomergv.com
SUMMARY:Church Service
DESCRIPTION:
URL:https://welcomehomergv.com/event/church-service/
LOCATION:Leisure World\, 400 E. 18th Street\, Weslaco\, TX\, United States
GEO:26.1454885;-97.9858537
X-APPLE-STRUCTURED-LOCATION;VALUE=URI;X-ADDRESS=Leisure World 400 E. 18th Street Weslaco TX United States;X-APPLE-RADIUS=500;X-TITLE=400 E. 18th Street:geo:-97.9858537,26.1454885
END:VEVENT
END:VCALENDAR