BEGIN:VCALENDAR
VERSION:2.0
PRODID:-//welcomehomergv - ECPv6.15.20//NONSGML v1.0//EN
CALSCALE:GREGORIAN
METHOD:PUBLISH
X-WR-CALNAME:welcomehomergv
X-ORIGINAL-URL:https://welcomehomergv.com
X-WR-CALDESC:Events for welcomehomergv
REFRESH-INTERVAL;VALUE=DURATION:PT1H
X-Robots-Tag:noindex
X-PUBLISHED-TTL:PT1H
BEGIN:VTIMEZONE
TZID:America/Chicago
BEGIN:DAYLIGHT
TZOFFSETFROM:-0600
TZOFFSETTO:-0500
TZNAME:CDT
DTSTART:20250309T080000
END:DAYLIGHT
BEGIN:STANDARD
TZOFFSETFROM:-0500
TZOFFSETTO:-0600
TZNAME:CST
DTSTART:20251102T070000
END:STANDARD
BEGIN:DAYLIGHT
TZOFFSETFROM:-0600
TZOFFSETTO:-0500
TZNAME:CDT
DTSTART:20260308T080000
END:DAYLIGHT
BEGIN:STANDARD
TZOFFSETFROM:-0500
TZOFFSETTO:-0600
TZNAME:CST
DTSTART:20261101T070000
END:STANDARD
BEGIN:DAYLIGHT
TZOFFSETFROM:-0600
TZOFFSETTO:-0500
TZNAME:CDT
DTSTART:20270314T080000
END:DAYLIGHT
BEGIN:STANDARD
TZOFFSETFROM:-0500
TZOFFSETTO:-0600
TZNAME:CST
DTSTART:20271107T070000
END:STANDARD
END:VTIMEZONE
BEGIN:VEVENT
DTSTART;TZID=America/Chicago:20260423T150000
DTEND;TZID=America/Chicago:20260423T170000
DTSTAMP:20260425T113502
CREATED:20260419T222103Z
LAST-MODIFIED:20260419T222103Z
UID:10007280-1776956400-1776963600@welcomehomergv.com
SUMMARY:Happy Hour w/Steven May
DESCRIPTION:
URL:https://welcomehomergv.com/event/happy-hour-w-steven-may/
LOCATION:Tropic Star RV Resort\, 1401 S. Cage Blvd.\, Pharr\, TX\, 78577\, United States
CATEGORIES:Happy Hour
GEO:26.176283;-98.1816628
X-APPLE-STRUCTURED-LOCATION;VALUE=URI;X-ADDRESS=Tropic Star RV Resort 1401 S. Cage Blvd. Pharr TX 78577 United States;X-APPLE-RADIUS=500;X-TITLE=1401 S. Cage Blvd.:geo:-98.1816628,26.176283
END:VEVENT
BEGIN:VEVENT
DTSTART;TZID=America/Chicago:20260423T173000
DTEND;TZID=America/Chicago:20260423T190000
DTSTAMP:20260425T113502
CREATED:20260220T220417Z
LAST-MODIFIED:20260220T220418Z
UID:10006778-1776965400-1776970800@welcomehomergv.com
SUMMARY:"iNaturalist and the City Nature Challenge
DESCRIPTION:
URL:https://welcomehomergv.com/event/inaturalist-and-the-city-nature-challenge/
LOCATION:South Texas Ecotourism Center\, 501 W. State Hwy. 100\, Laguna Vista\, TX\, 78578\, United States
CATEGORIES:Nature and Outdoors
GEO:26.0933876;-97.2967287
X-APPLE-STRUCTURED-LOCATION;VALUE=URI;X-ADDRESS=South Texas Ecotourism Center 501 W. State Hwy. 100 Laguna Vista TX 78578 United States;X-APPLE-RADIUS=500;X-TITLE=501 W. State Hwy. 100:geo:-97.2967287,26.0933876
END:VEVENT
BEGIN:VEVENT
DTSTART;TZID=America/Chicago:20260423T180000
DTEND;TZID=America/Chicago:20260423T210000
DTSTAMP:20260425T113502
CREATED:20260403T161615Z
LAST-MODIFIED:20260403T161625Z
UID:10006973-1776967200-1776978000@welcomehomergv.com
SUMMARY:Dance w/Double Shot
DESCRIPTION:
URL:https://welcomehomergv.com/event/dance-w-double-shot/
LOCATION:Bit-O-Heaven RV and MH Resort\, 1051 W. Business Hwy. 83\, Donna\, TX\, United States
CATEGORIES:Dances
GEO:26.1721418;-98.0915416
X-APPLE-STRUCTURED-LOCATION;VALUE=URI;X-ADDRESS=Bit-O-Heaven RV and MH Resort 1051 W. Business Hwy. 83 Donna TX United States;X-APPLE-RADIUS=500;X-TITLE=1051 W. Business Hwy. 83:geo:-98.0915416,26.1721418
END:VEVENT
BEGIN:VEVENT
DTSTART;TZID=America/Chicago:20260423T190000
DTEND;TZID=America/Chicago:20260423T210000
DTSTAMP:20260425T113502
CREATED:20260419T233552Z
LAST-MODIFIED:20260419T233554Z
UID:10007313-1776970800-1776978000@welcomehomergv.com
SUMMARY:Gutar Orchestra
DESCRIPTION:Don’t miss this spectacular evening of guitar music!
URL:https://welcomehomergv.com/event/gutar-orchestra/
LOCATION:UTRGV Performing Arts Complex\, 1201 W. University Drive\, Edinburg\, TX\, 78541\, United States
CATEGORIES:Concerts and Performing Arts
ATTACH;FMTTYPE=image/jpeg:https://welcomehomergv.com/wp-content/uploads/2026/04/Guitar.jpg
GEO:26.3045362;-98.1753298
X-APPLE-STRUCTURED-LOCATION;VALUE=URI;X-ADDRESS=UTRGV Performing Arts Complex 1201 W. University Drive Edinburg TX 78541 United States;X-APPLE-RADIUS=500;X-TITLE=1201 W. University Drive:geo:-98.1753298,26.3045362
END:VEVENT
BEGIN:VEVENT
DTSTART;TZID=America/Chicago:20260423T190000
DTEND;TZID=America/Chicago:20260423T210000
DTSTAMP:20260425T113502
CREATED:20260419T233553Z
LAST-MODIFIED:20260419T233554Z
UID:10007314-1776970800-1776978000@welcomehomergv.com
SUMMARY:Felix Mendelssohn's "Elijah"
DESCRIPTION:Enjoy us as our students from the University Choir and the Master Chorale combine their voices for an evening of vocal enjoyment! Under the direction of both Dr. Matthew Coffey and Dr. Sean Taylor\, these groups carry a wide range of vocal talent and skills.
URL:https://welcomehomergv.com/event/felix-mendelssohns-elijah/
LOCATION:TSC Performing Arts Center\, 90 Taylor Avenue\, Brownsville\, TX\, 78520\, United States
CATEGORIES:Concerts and Performing Arts
ATTACH;FMTTYPE=image/png:https://welcomehomergv.com/wp-content/uploads/2026/04/Elijah.png
GEO:25.8984479;-97.4936959
X-APPLE-STRUCTURED-LOCATION;VALUE=URI;X-ADDRESS=TSC Performing Arts Center 90 Taylor Avenue Brownsville TX 78520 United States;X-APPLE-RADIUS=500;X-TITLE=90 Taylor Avenue:geo:-97.4936959,25.8984479
END:VEVENT
BEGIN:VEVENT
DTSTART;TZID=America/Chicago:20260424T150000
DTEND;TZID=America/Chicago:20260424T163000
DTSTAMP:20260425T113502
CREATED:20251030T004519Z
LAST-MODIFIED:20251030T004522Z
UID:10003989-1777042800-1777048200@welcomehomergv.com
SUMMARY:Happy Hour w/Diego & Edith
DESCRIPTION:
URL:https://welcomehomergv.com/event/happy-hour-w-diego-edith-38/
LOCATION:Ranchero Village Senior Resort Park\, 1900 S. Bridge Avenue\, Weslaco\, TX\, United States
CATEGORIES:Happy Hour
GEO:26.1352948;-97.984491
X-APPLE-STRUCTURED-LOCATION;VALUE=URI;X-ADDRESS=Ranchero Village Senior Resort Park 1900 S. Bridge Avenue Weslaco TX United States;X-APPLE-RADIUS=500;X-TITLE=1900 S. Bridge Avenue:geo:-97.984491,26.1352948
END:VEVENT
BEGIN:VEVENT
DTSTART;TZID=America/Chicago:20260425T180000
DTEND;TZID=America/Chicago:20260425T210000
DTSTAMP:20260425T113502
CREATED:20260220T195258Z
LAST-MODIFIED:20260220T195259Z
UID:10006734-1777140000-1777150800@welcomehomergv.com
SUMMARY:Dance w/Two Old Dudes
DESCRIPTION:
URL:https://welcomehomergv.com/event/dance-w-two-old-dudes/
LOCATION:Enchanted Valley Ranch\, 7300 Monroe Street\, Mission\, TX\, United States
CATEGORIES:Dances
GEO:26.2427088;-98.4052302
X-APPLE-STRUCTURED-LOCATION;VALUE=URI;X-ADDRESS=Enchanted Valley Ranch 7300 Monroe Street Mission TX United States;X-APPLE-RADIUS=500;X-TITLE=7300 Monroe Street:geo:-98.4052302,26.2427088
END:VEVENT
BEGIN:VEVENT
DTSTART;TZID=America/Chicago:20260425T190000
DTEND;TZID=America/Chicago:20260425T210000
DTSTAMP:20260425T113502
CREATED:20260325T174918Z
LAST-MODIFIED:20260325T174929Z
UID:10006903-1777143600-1777150800@welcomehomergv.com
SUMMARY:Dance w/Ron Moshier
DESCRIPTION:
URL:https://welcomehomergv.com/event/dance-w-ron-moshier-4/
LOCATION:Snow to Sun RV Resort\, 1701 N. International Blvd.\, Weslaco\, TX\, United States
CATEGORIES:Dances
GEO:26.1791207;-97.9613296
X-APPLE-STRUCTURED-LOCATION;VALUE=URI;X-ADDRESS=Snow to Sun RV Resort 1701 N. International Blvd. Weslaco TX United States;X-APPLE-RADIUS=500;X-TITLE=1701 N. International Blvd.:geo:-97.9613296,26.1791207
END:VEVENT
BEGIN:VEVENT
DTSTART;TZID=America/Chicago:20260427T150000
DTEND;TZID=America/Chicago:20260427T163000
DTSTAMP:20260425T113502
CREATED:20260325T182210Z
LAST-MODIFIED:20260325T182216Z
UID:10006938-1777302000-1777307400@welcomehomergv.com
SUMMARY:Happy Hour w/Diego & Edith
DESCRIPTION:
URL:https://welcomehomergv.com/event/happy-hour-w-diego-edith-5/
LOCATION:Snow to Sun RV Resort\, 1701 N. International Blvd.\, Weslaco\, TX\, United States
CATEGORIES:Happy Hour
GEO:26.1791207;-97.9613296
X-APPLE-STRUCTURED-LOCATION;VALUE=URI;X-ADDRESS=Snow to Sun RV Resort 1701 N. International Blvd. Weslaco TX United States;X-APPLE-RADIUS=500;X-TITLE=1701 N. International Blvd.:geo:-97.9613296,26.1791207
END:VEVENT
BEGIN:VEVENT
DTSTART;TZID=America/Chicago:20260428T150000
DTEND;TZID=America/Chicago:20260428T170000
DTSTAMP:20260425T113502
CREATED:20260403T183905Z
LAST-MODIFIED:20260403T183917Z
UID:10007004-1777388400-1777395600@welcomehomergv.com
SUMMARY:Happy Hour w/The Lockhart's
DESCRIPTION:
URL:https://welcomehomergv.com/event/happy-hour-w-the-lockharts/
LOCATION:Bit-O-Heaven RV and MH Resort\, 1051 W. Business Hwy. 83\, Donna\, TX\, United States
CATEGORIES:Happy Hour
GEO:26.1721418;-98.0915416
X-APPLE-STRUCTURED-LOCATION;VALUE=URI;X-ADDRESS=Bit-O-Heaven RV and MH Resort 1051 W. Business Hwy. 83 Donna TX United States;X-APPLE-RADIUS=500;X-TITLE=1051 W. Business Hwy. 83:geo:-98.0915416,26.1721418
END:VEVENT
BEGIN:VEVENT
DTSTART;TZID=America/Chicago:20260429T173000
DTEND;TZID=America/Chicago:20260429T190000
DTSTAMP:20260425T113502
CREATED:20260419T230149Z
LAST-MODIFIED:20260419T230201Z
UID:10007284-1777483800-1777489200@welcomehomergv.com
SUMMARY:Wednesday Dinner
DESCRIPTION:Hamburgers\, Hot Dogs\, Polish Sausage and concessions.
URL:https://welcomehomergv.com/event/wednesday-dinner-2/
LOCATION:Tip O Texas RV Resort\, 101 E. Sioux Road\, Pharr\, TX\, United States
CATEGORIES:Food and Drinks
GEO:26.2198864;-98.1755144
X-APPLE-STRUCTURED-LOCATION;VALUE=URI;X-ADDRESS=Tip O Texas RV Resort 101 E. Sioux Road Pharr TX United States;X-APPLE-RADIUS=500;X-TITLE=101 E. Sioux Road:geo:-98.1755144,26.2198864
END:VEVENT
BEGIN:VEVENT
DTSTART;TZID=America/Chicago:20260429T190000
DTEND;TZID=America/Chicago:20260429T220000
DTSTAMP:20260425T113502
CREATED:20260403T185344Z
LAST-MODIFIED:20260403T185353Z
UID:10007033-1777489200-1777500000@welcomehomergv.com
SUMMARY:Dance w/Steven May & The Southern Knights
DESCRIPTION:
URL:https://welcomehomergv.com/event/dance-w-steven-may-the-southern-knights-24/
LOCATION:Tip O Texas RV Resort\, 101 E. Sioux Road\, Pharr\, TX\, United States
CATEGORIES:Dances
GEO:26.2198864;-98.1755144
X-APPLE-STRUCTURED-LOCATION;VALUE=URI;X-ADDRESS=Tip O Texas RV Resort 101 E. Sioux Road Pharr TX United States;X-APPLE-RADIUS=500;X-TITLE=101 E. Sioux Road:geo:-98.1755144,26.2198864
END:VEVENT
BEGIN:VEVENT
DTSTART;TZID=America/Chicago:20260430T180000
DTEND;TZID=America/Chicago:20260430T210000
DTSTAMP:20260425T113502
CREATED:20260403T161616Z
LAST-MODIFIED:20260403T161625Z
UID:10006974-1777572000-1777582800@welcomehomergv.com
SUMMARY:Dance w/Rewind
DESCRIPTION:
URL:https://welcomehomergv.com/event/dance-w-rewind-2/
LOCATION:Bit-O-Heaven RV and MH Resort\, 1051 W. Business Hwy. 83\, Donna\, TX\, United States
CATEGORIES:Dances
GEO:26.1721418;-98.0915416
X-APPLE-STRUCTURED-LOCATION;VALUE=URI;X-ADDRESS=Bit-O-Heaven RV and MH Resort 1051 W. Business Hwy. 83 Donna TX United States;X-APPLE-RADIUS=500;X-TITLE=1051 W. Business Hwy. 83:geo:-98.0915416,26.1721418
END:VEVENT
BEGIN:VEVENT
DTSTART;TZID=America/Chicago:20260502T100000
DTEND;TZID=America/Chicago:20260502T140000
DTSTAMP:20260425T113502
CREATED:20260419T231723Z
LAST-MODIFIED:20260419T231724Z
UID:10007311-1777716000-1777730400@welcomehomergv.com
SUMMARY:South Texas Ecotourism Center Market Day
DESCRIPTION:Native Plant Sale\, Fresh Produce\, Live Music\, Food\, Nature Related Information Booths.
URL:https://welcomehomergv.com/event/south-texas-ecotourism-center-market-day/
LOCATION:South Texas Ecotourism Center\, 501 W. State Hwy. 100\, Laguna Vista\, TX\, 78578\, United States
CATEGORIES:Nature and Outdoors
ATTACH;FMTTYPE=image/jpeg:https://welcomehomergv.com/wp-content/uploads/2026/04/STEC-MARKET-DAY-FLYER-MAY-2-scaled.jpg
GEO:26.0933876;-97.2967287
X-APPLE-STRUCTURED-LOCATION;VALUE=URI;X-ADDRESS=South Texas Ecotourism Center 501 W. State Hwy. 100 Laguna Vista TX 78578 United States;X-APPLE-RADIUS=500;X-TITLE=501 W. State Hwy. 100:geo:-97.2967287,26.0933876
END:VEVENT
BEGIN:VEVENT
DTSTART;TZID=America/Chicago:20260502T190000
DTEND;TZID=America/Chicago:20260502T210000
DTSTAMP:20260425T113502
CREATED:20260325T174919Z
LAST-MODIFIED:20260325T174929Z
UID:10006904-1777748400-1777755600@welcomehomergv.com
SUMMARY:Dance w/Steven May & The Southern Knights
DESCRIPTION:
URL:https://welcomehomergv.com/event/dance-w-steven-may-the-southern-knights-4/
LOCATION:Snow to Sun RV Resort\, 1701 N. International Blvd.\, Weslaco\, TX\, United States
CATEGORIES:Dances
GEO:26.1791207;-97.9613296
X-APPLE-STRUCTURED-LOCATION;VALUE=URI;X-ADDRESS=Snow to Sun RV Resort 1701 N. International Blvd. Weslaco TX United States;X-APPLE-RADIUS=500;X-TITLE=1701 N. International Blvd.:geo:-97.9613296,26.1791207
END:VEVENT
BEGIN:VEVENT
DTSTART;TZID=America/Chicago:20260504T150000
DTEND;TZID=America/Chicago:20260504T163000
DTSTAMP:20260425T113502
CREATED:20260325T182211Z
LAST-MODIFIED:20260325T182216Z
UID:10006939-1777906800-1777912200@welcomehomergv.com
SUMMARY:Happy Hour w/Diego & Edith
DESCRIPTION:
URL:https://welcomehomergv.com/event/happy-hour-w-diego-edith-8/
LOCATION:Snow to Sun RV Resort\, 1701 N. International Blvd.\, Weslaco\, TX\, United States
CATEGORIES:Happy Hour
GEO:26.1791207;-97.9613296
X-APPLE-STRUCTURED-LOCATION;VALUE=URI;X-ADDRESS=Snow to Sun RV Resort 1701 N. International Blvd. Weslaco TX United States;X-APPLE-RADIUS=500;X-TITLE=1701 N. International Blvd.:geo:-97.9613296,26.1791207
END:VEVENT
BEGIN:VEVENT
DTSTART;TZID=America/Chicago:20260505T180000
DTEND;TZID=America/Chicago:20260505T210000
DTSTAMP:20260425T113502
CREATED:20260403T161616Z
LAST-MODIFIED:20260403T161625Z
UID:10006975-1778004000-1778014800@welcomehomergv.com
SUMMARY:Cinco de Mayo w/Les Canto
DESCRIPTION:
URL:https://welcomehomergv.com/event/cinco-de-mayo-w-les-canto/
LOCATION:Bit-O-Heaven RV and MH Resort\, 1051 W. Business Hwy. 83\, Donna\, TX\, United States
CATEGORIES:Dances
GEO:26.1721418;-98.0915416
X-APPLE-STRUCTURED-LOCATION;VALUE=URI;X-ADDRESS=Bit-O-Heaven RV and MH Resort 1051 W. Business Hwy. 83 Donna TX United States;X-APPLE-RADIUS=500;X-TITLE=1051 W. Business Hwy. 83:geo:-98.0915416,26.1721418
END:VEVENT
BEGIN:VEVENT
DTSTART;TZID=America/Chicago:20260506T173000
DTEND;TZID=America/Chicago:20260506T190000
DTSTAMP:20260425T113502
CREATED:20260419T230150Z
LAST-MODIFIED:20260419T230201Z
UID:10007285-1778088600-1778094000@welcomehomergv.com
SUMMARY:Wednesday Dinner
DESCRIPTION:Hamburgers\, Hot Dogs\, Polish Sausage and concessions.
URL:https://welcomehomergv.com/event/wednesday-dinner-3/
LOCATION:Tip O Texas RV Resort\, 101 E. Sioux Road\, Pharr\, TX\, United States
CATEGORIES:Food and Drinks
GEO:26.2198864;-98.1755144
X-APPLE-STRUCTURED-LOCATION;VALUE=URI;X-ADDRESS=Tip O Texas RV Resort 101 E. Sioux Road Pharr TX United States;X-APPLE-RADIUS=500;X-TITLE=101 E. Sioux Road:geo:-98.1755144,26.2198864
END:VEVENT
BEGIN:VEVENT
DTSTART;TZID=America/Chicago:20260506T190000
DTEND;TZID=America/Chicago:20260506T220000
DTSTAMP:20260425T113502
CREATED:20260403T185345Z
LAST-MODIFIED:20260403T185353Z
UID:10007034-1778094000-1778104800@welcomehomergv.com
SUMMARY:Dance w/Steven May & The Southern Knights
DESCRIPTION:
URL:https://welcomehomergv.com/event/dance-w-steven-may-the-southern-knights-25/
LOCATION:Tip O Texas RV Resort\, 101 E. Sioux Road\, Pharr\, TX\, United States
CATEGORIES:Dances
GEO:26.2198864;-98.1755144
X-APPLE-STRUCTURED-LOCATION;VALUE=URI;X-ADDRESS=Tip O Texas RV Resort 101 E. Sioux Road Pharr TX United States;X-APPLE-RADIUS=500;X-TITLE=101 E. Sioux Road:geo:-98.1755144,26.2198864
END:VEVENT
BEGIN:VEVENT
DTSTART;TZID=America/Chicago:20260507T150000
DTEND;TZID=America/Chicago:20260507T170000
DTSTAMP:20260425T113502
CREATED:20260419T222341Z
LAST-MODIFIED:20260419T222342Z
UID:10007281-1778166000-1778173200@welcomehomergv.com
SUMMARY:Happy Hour w/Michael Flores
DESCRIPTION:
URL:https://welcomehomergv.com/event/happy-hour-w-michael-flores-6/
LOCATION:Tropic Star RV Resort\, 1401 S. Cage Blvd.\, Pharr\, TX\, 78577\, United States
CATEGORIES:Happy Hour
GEO:26.176283;-98.1816628
X-APPLE-STRUCTURED-LOCATION;VALUE=URI;X-ADDRESS=Tropic Star RV Resort 1401 S. Cage Blvd. Pharr TX 78577 United States;X-APPLE-RADIUS=500;X-TITLE=1401 S. Cage Blvd.:geo:-98.1816628,26.176283
END:VEVENT
BEGIN:VEVENT
DTSTART;TZID=America/Chicago:20260507T180000
DTEND;TZID=America/Chicago:20260507T210000
DTSTAMP:20260425T113502
CREATED:20260325T182204Z
LAST-MODIFIED:20260325T182216Z
UID:10006930-1778176800-1778187600@welcomehomergv.com
SUMMARY:Dance w/Texas Wheels
DESCRIPTION:
URL:https://welcomehomergv.com/event/dance-w-texas-wheels/
LOCATION:Bit-O-Heaven RV and MH Resort\, 1051 W. Business Hwy. 83\, Donna\, TX\, United States
CATEGORIES:Dances
GEO:26.1721418;-98.0915416
X-APPLE-STRUCTURED-LOCATION;VALUE=URI;X-ADDRESS=Bit-O-Heaven RV and MH Resort 1051 W. Business Hwy. 83 Donna TX United States;X-APPLE-RADIUS=500;X-TITLE=1051 W. Business Hwy. 83:geo:-98.0915416,26.1721418
END:VEVENT
BEGIN:VEVENT
DTSTART;TZID=America/Chicago:20260507T180000
DTEND;TZID=America/Chicago:20260507T210000
DTSTAMP:20260425T113502
CREATED:20260403T161617Z
LAST-MODIFIED:20260403T161625Z
UID:10006976-1778176800-1778187600@welcomehomergv.com
SUMMARY:Dance w/Texas Wheels
DESCRIPTION:
URL:https://welcomehomergv.com/event/dance-w-texas-wheels-6/
LOCATION:Bit-O-Heaven RV and MH Resort\, 1051 W. Business Hwy. 83\, Donna\, TX\, United States
CATEGORIES:Dances
GEO:26.1721418;-98.0915416
X-APPLE-STRUCTURED-LOCATION;VALUE=URI;X-ADDRESS=Bit-O-Heaven RV and MH Resort 1051 W. Business Hwy. 83 Donna TX United States;X-APPLE-RADIUS=500;X-TITLE=1051 W. Business Hwy. 83:geo:-98.0915416,26.1721418
END:VEVENT
BEGIN:VEVENT
DTSTART;TZID=America/Chicago:20260508T190000
DTEND;TZID=America/Chicago:20260508T210000
DTSTAMP:20260425T113502
CREATED:20251026T222135Z
LAST-MODIFIED:20251026T222144Z
UID:10002736-1778266800-1778274000@welcomehomergv.com
SUMMARY:Heathers The Musical
DESCRIPTION:http://www.camilleplayhouseinc.netLinks to purchase ticketshttps://buy.ticketstothecity.com/purchase.php?event_id=17758 Based on the cult classic film of the same name\, HEATHERS the MUSICAL is the story of Veronica Sawyer\, a senior at the fictional Westerberg High. Veronica longs to be cool like the clique of it-girls that runs Westerberg: the unaffected\, unattainable Heathers. Unfortunately\, in addition to awesome levels of popularity\, the Heathers are also cruel\, choosing to mock and bully their kingdom into submission
URL:https://welcomehomergv.com/event/heathers-the-musical/
LOCATION:Camille Lightner Playhouse\, 1 Dean Porter Park\, Brownsville\, TX\, 78520\, United States
CATEGORIES:Concerts and Performing Arts
GEO:25.9154789;-97.4958207
X-APPLE-STRUCTURED-LOCATION;VALUE=URI;X-ADDRESS=Camille Lightner Playhouse 1 Dean Porter Park Brownsville TX 78520 United States;X-APPLE-RADIUS=500;X-TITLE=1 Dean Porter Park:geo:-97.4958207,25.9154789
END:VEVENT
BEGIN:VEVENT
DTSTART;TZID=America/Chicago:20260508T190000
DTEND;TZID=America/Chicago:20260508T210000
DTSTAMP:20260425T113502
CREATED:20260306T203736Z
LAST-MODIFIED:20260306T203741Z
UID:10006861-1778266800-1778274000@welcomehomergv.com
SUMMARY:Heathers The Musical
DESCRIPTION:Based on the cult classic film of the same name\, Heathers is the story of Veronica Sawyer\, a senior at the fictional Westerberg High. Veronica longs to be cool like the clique of it-girls that runs Westerberg: the unaffected\, unattainable Heathers. Unfortunately\, in addition to awesome levels of popularity\, the Heathers are also cruel\, choosing to mock and bully their kingdom into submission
URL:https://welcomehomergv.com/event/heathers-the-musical-2/
LOCATION:Camille Lightner Playhouse\, 1 Dean Porter Park\, Brownsville\, TX\, 78520\, United States
CATEGORIES:Concerts and Performing Arts
GEO:25.9154789;-97.4958207
X-APPLE-STRUCTURED-LOCATION;VALUE=URI;X-ADDRESS=Camille Lightner Playhouse 1 Dean Porter Park Brownsville TX 78520 United States;X-APPLE-RADIUS=500;X-TITLE=1 Dean Porter Park:geo:-97.4958207,25.9154789
END:VEVENT
BEGIN:VEVENT
DTSTART;TZID=America/Chicago:20260509T140000
DTEND;TZID=America/Chicago:20260509T160000
DTSTAMP:20260425T113502
CREATED:20260306T203737Z
LAST-MODIFIED:20260306T203741Z
UID:10006862-1778335200-1778342400@welcomehomergv.com
SUMMARY:Heathers The Musical
DESCRIPTION:Based on the cult classic film of the same name\, Heathers is the story of Veronica Sawyer\, a senior at the fictional Westerberg High. Veronica longs to be cool like the clique of it-girls that runs Westerberg: the unaffected\, unattainable Heathers. Unfortunately\, in addition to awesome levels of popularity\, the Heathers are also cruel\, choosing to mock and bully their kingdom into submission
URL:https://welcomehomergv.com/event/heathers-the-musical-3/
LOCATION:Camille Lightner Playhouse\, 1 Dean Porter Park\, Brownsville\, TX\, 78520\, United States
CATEGORIES:Concerts and Performing Arts
GEO:25.9154789;-97.4958207
X-APPLE-STRUCTURED-LOCATION;VALUE=URI;X-ADDRESS=Camille Lightner Playhouse 1 Dean Porter Park Brownsville TX 78520 United States;X-APPLE-RADIUS=500;X-TITLE=1 Dean Porter Park:geo:-97.4958207,25.9154789
END:VEVENT
BEGIN:VEVENT
DTSTART;TZID=America/Chicago:20260509T190000
DTEND;TZID=America/Chicago:20260509T210000
DTSTAMP:20260425T113502
CREATED:20260306T203739Z
LAST-MODIFIED:20260306T203741Z
UID:10006863-1778353200-1778360400@welcomehomergv.com
SUMMARY:Heathers The Musical
DESCRIPTION:Based on the cult classic film of the same name\, Heathers is the story of Veronica Sawyer\, a senior at the fictional Westerberg High. Veronica longs to be cool like the clique of it-girls that runs Westerberg: the unaffected\, unattainable Heathers. Unfortunately\, in addition to awesome levels of popularity\, the Heathers are also cruel\, choosing to mock and bully their kingdom into submission
URL:https://welcomehomergv.com/event/heathers-the-musical-4/
LOCATION:Camille Lightner Playhouse\, 1 Dean Porter Park\, Brownsville\, TX\, 78520\, United States
CATEGORIES:Concerts and Performing Arts
GEO:25.9154789;-97.4958207
X-APPLE-STRUCTURED-LOCATION;VALUE=URI;X-ADDRESS=Camille Lightner Playhouse 1 Dean Porter Park Brownsville TX 78520 United States;X-APPLE-RADIUS=500;X-TITLE=1 Dean Porter Park:geo:-97.4958207,25.9154789
END:VEVENT
BEGIN:VEVENT
DTSTART;TZID=America/Chicago:20260509T190000
DTEND;TZID=America/Chicago:20260509T220000
DTSTAMP:20260425T113502
CREATED:20260413T205308Z
LAST-MODIFIED:20260413T205315Z
UID:10007153-1778353200-1778364000@welcomehomergv.com
SUMMARY:Dance w/Southern Vibes
DESCRIPTION:
URL:https://welcomehomergv.com/event/dance-w-southern-vibes-9/
LOCATION:Snow to Sun RV Resort\, 1701 N. International Blvd.\, Weslaco\, TX\, United States
CATEGORIES:Dances
GEO:26.1791207;-97.9613296
X-APPLE-STRUCTURED-LOCATION;VALUE=URI;X-ADDRESS=Snow to Sun RV Resort 1701 N. International Blvd. Weslaco TX United States;X-APPLE-RADIUS=500;X-TITLE=1701 N. International Blvd.:geo:-97.9613296,26.1791207
END:VEVENT
BEGIN:VEVENT
DTSTART;TZID=America/Chicago:20260510T140000
DTEND;TZID=America/Chicago:20260510T160000
DTSTAMP:20260425T113502
CREATED:20260306T203740Z
LAST-MODIFIED:20260306T203741Z
UID:10006864-1778421600-1778428800@welcomehomergv.com
SUMMARY:Heathers The Musical
DESCRIPTION:Based on the cult classic film of the same name\, Heathers is the story of Veronica Sawyer\, a senior at the fictional Westerberg High. Veronica longs to be cool like the clique of it-girls that runs Westerberg: the unaffected\, unattainable Heathers. Unfortunately\, in addition to awesome levels of popularity\, the Heathers are also cruel\, choosing to mock and bully their kingdom into submission
URL:https://welcomehomergv.com/event/heathers-the-musical-5/
LOCATION:Camille Lightner Playhouse\, 1 Dean Porter Park\, Brownsville\, TX\, 78520\, United States
CATEGORIES:Concerts and Performing Arts
GEO:25.9154789;-97.4958207
X-APPLE-STRUCTURED-LOCATION;VALUE=URI;X-ADDRESS=Camille Lightner Playhouse 1 Dean Porter Park Brownsville TX 78520 United States;X-APPLE-RADIUS=500;X-TITLE=1 Dean Porter Park:geo:-97.4958207,25.9154789
END:VEVENT
BEGIN:VEVENT
DTSTART;TZID=America/Chicago:20260510T180000
DTEND;TZID=America/Chicago:20260510T210000
DTSTAMP:20260425T113502
CREATED:20260403T161618Z
LAST-MODIFIED:20260403T161625Z
UID:10006977-1778436000-1778446800@welcomehomergv.com
SUMMARY:Mother's Day w/Steven May & The Southern Knights
DESCRIPTION:
URL:https://welcomehomergv.com/event/mothers-day-w-steven-may-the-southern-knights/
LOCATION:Bit-O-Heaven RV and MH Resort\, 1051 W. Business Hwy. 83\, Donna\, TX\, United States
CATEGORIES:Dances
GEO:26.1721418;-98.0915416
X-APPLE-STRUCTURED-LOCATION;VALUE=URI;X-ADDRESS=Bit-O-Heaven RV and MH Resort 1051 W. Business Hwy. 83 Donna TX United States;X-APPLE-RADIUS=500;X-TITLE=1051 W. Business Hwy. 83:geo:-98.0915416,26.1721418
END:VEVENT
BEGIN:VEVENT
DTSTART;TZID=America/Chicago:20260511T150000
DTEND;TZID=America/Chicago:20260511T163000
DTSTAMP:20260425T113502
CREATED:20260325T182212Z
LAST-MODIFIED:20260325T182216Z
UID:10006940-1778511600-1778517000@welcomehomergv.com
SUMMARY:Happy Hour w/Diego & Edith
DESCRIPTION:
URL:https://welcomehomergv.com/event/happy-hour-w-diego-edith-9/
LOCATION:Snow to Sun RV Resort\, 1701 N. International Blvd.\, Weslaco\, TX\, United States
CATEGORIES:Happy Hour
GEO:26.1791207;-97.9613296
X-APPLE-STRUCTURED-LOCATION;VALUE=URI;X-ADDRESS=Snow to Sun RV Resort 1701 N. International Blvd. Weslaco TX United States;X-APPLE-RADIUS=500;X-TITLE=1701 N. International Blvd.:geo:-97.9613296,26.1791207
END:VEVENT
END:VCALENDAR