BEGIN:VCALENDAR
VERSION:2.0
PRODID:-//welcomehomergv - ECPv6.15.20//NONSGML v1.0//EN
CALSCALE:GREGORIAN
METHOD:PUBLISH
X-WR-CALNAME:welcomehomergv
X-ORIGINAL-URL:https://welcomehomergv.com
X-WR-CALDESC:Events for welcomehomergv
REFRESH-INTERVAL;VALUE=DURATION:PT1H
X-Robots-Tag:noindex
X-PUBLISHED-TTL:PT1H
BEGIN:VTIMEZONE
TZID:America/Chicago
BEGIN:DAYLIGHT
TZOFFSETFROM:-0600
TZOFFSETTO:-0500
TZNAME:CDT
DTSTART:20250309T080000
END:DAYLIGHT
BEGIN:STANDARD
TZOFFSETFROM:-0500
TZOFFSETTO:-0600
TZNAME:CST
DTSTART:20251102T070000
END:STANDARD
BEGIN:DAYLIGHT
TZOFFSETFROM:-0600
TZOFFSETTO:-0500
TZNAME:CDT
DTSTART:20260308T080000
END:DAYLIGHT
BEGIN:STANDARD
TZOFFSETFROM:-0500
TZOFFSETTO:-0600
TZNAME:CST
DTSTART:20261101T070000
END:STANDARD
BEGIN:DAYLIGHT
TZOFFSETFROM:-0600
TZOFFSETTO:-0500
TZNAME:CDT
DTSTART:20270314T080000
END:DAYLIGHT
BEGIN:STANDARD
TZOFFSETFROM:-0500
TZOFFSETTO:-0600
TZNAME:CST
DTSTART:20271107T070000
END:STANDARD
END:VTIMEZONE
BEGIN:VEVENT
DTSTART;TZID=America/Chicago:20260425T190000
DTEND;TZID=America/Chicago:20260425T210000
DTSTAMP:20260423T101019
CREATED:20260325T174918Z
LAST-MODIFIED:20260325T174929Z
UID:10006903-1777143600-1777150800@welcomehomergv.com
SUMMARY:Dance w/Ron Moshier
DESCRIPTION:
URL:https://welcomehomergv.com/event/dance-w-ron-moshier-4/
LOCATION:Snow to Sun RV Resort\, 1701 N. International Blvd.\, Weslaco\, TX\, United States
CATEGORIES:Dances
GEO:26.1791207;-97.9613296
X-APPLE-STRUCTURED-LOCATION;VALUE=URI;X-ADDRESS=Snow to Sun RV Resort 1701 N. International Blvd. Weslaco TX United States;X-APPLE-RADIUS=500;X-TITLE=1701 N. International Blvd.:geo:-97.9613296,26.1791207
END:VEVENT
BEGIN:VEVENT
DTSTART;TZID=America/Chicago:20260427T150000
DTEND;TZID=America/Chicago:20260427T163000
DTSTAMP:20260423T101019
CREATED:20260325T182210Z
LAST-MODIFIED:20260325T182216Z
UID:10006938-1777302000-1777307400@welcomehomergv.com
SUMMARY:Happy Hour w/Diego & Edith
DESCRIPTION:
URL:https://welcomehomergv.com/event/happy-hour-w-diego-edith-5/
LOCATION:Snow to Sun RV Resort\, 1701 N. International Blvd.\, Weslaco\, TX\, United States
CATEGORIES:Happy Hour
GEO:26.1791207;-97.9613296
X-APPLE-STRUCTURED-LOCATION;VALUE=URI;X-ADDRESS=Snow to Sun RV Resort 1701 N. International Blvd. Weslaco TX United States;X-APPLE-RADIUS=500;X-TITLE=1701 N. International Blvd.:geo:-97.9613296,26.1791207
END:VEVENT
BEGIN:VEVENT
DTSTART;TZID=America/Chicago:20260502T190000
DTEND;TZID=America/Chicago:20260502T210000
DTSTAMP:20260423T101019
CREATED:20260325T174919Z
LAST-MODIFIED:20260325T174929Z
UID:10006904-1777748400-1777755600@welcomehomergv.com
SUMMARY:Dance w/Steven May & The Southern Knights
DESCRIPTION:
URL:https://welcomehomergv.com/event/dance-w-steven-may-the-southern-knights-4/
LOCATION:Snow to Sun RV Resort\, 1701 N. International Blvd.\, Weslaco\, TX\, United States
CATEGORIES:Dances
GEO:26.1791207;-97.9613296
X-APPLE-STRUCTURED-LOCATION;VALUE=URI;X-ADDRESS=Snow to Sun RV Resort 1701 N. International Blvd. Weslaco TX United States;X-APPLE-RADIUS=500;X-TITLE=1701 N. International Blvd.:geo:-97.9613296,26.1791207
END:VEVENT
BEGIN:VEVENT
DTSTART;TZID=America/Chicago:20260504T150000
DTEND;TZID=America/Chicago:20260504T163000
DTSTAMP:20260423T101019
CREATED:20260325T182211Z
LAST-MODIFIED:20260325T182216Z
UID:10006939-1777906800-1777912200@welcomehomergv.com
SUMMARY:Happy Hour w/Diego & Edith
DESCRIPTION:
URL:https://welcomehomergv.com/event/happy-hour-w-diego-edith-8/
LOCATION:Snow to Sun RV Resort\, 1701 N. International Blvd.\, Weslaco\, TX\, United States
CATEGORIES:Happy Hour
GEO:26.1791207;-97.9613296
X-APPLE-STRUCTURED-LOCATION;VALUE=URI;X-ADDRESS=Snow to Sun RV Resort 1701 N. International Blvd. Weslaco TX United States;X-APPLE-RADIUS=500;X-TITLE=1701 N. International Blvd.:geo:-97.9613296,26.1791207
END:VEVENT
BEGIN:VEVENT
DTSTART;TZID=America/Chicago:20260509T190000
DTEND;TZID=America/Chicago:20260509T220000
DTSTAMP:20260423T101019
CREATED:20260413T205308Z
LAST-MODIFIED:20260413T205315Z
UID:10007153-1778353200-1778364000@welcomehomergv.com
SUMMARY:Dance w/Southern Vibes
DESCRIPTION:
URL:https://welcomehomergv.com/event/dance-w-southern-vibes-9/
LOCATION:Snow to Sun RV Resort\, 1701 N. International Blvd.\, Weslaco\, TX\, United States
CATEGORIES:Dances
GEO:26.1791207;-97.9613296
X-APPLE-STRUCTURED-LOCATION;VALUE=URI;X-ADDRESS=Snow to Sun RV Resort 1701 N. International Blvd. Weslaco TX United States;X-APPLE-RADIUS=500;X-TITLE=1701 N. International Blvd.:geo:-97.9613296,26.1791207
END:VEVENT
BEGIN:VEVENT
DTSTART;TZID=America/Chicago:20260511T150000
DTEND;TZID=America/Chicago:20260511T163000
DTSTAMP:20260423T101019
CREATED:20260325T182212Z
LAST-MODIFIED:20260325T182216Z
UID:10006940-1778511600-1778517000@welcomehomergv.com
SUMMARY:Happy Hour w/Diego & Edith
DESCRIPTION:
URL:https://welcomehomergv.com/event/happy-hour-w-diego-edith-9/
LOCATION:Snow to Sun RV Resort\, 1701 N. International Blvd.\, Weslaco\, TX\, United States
CATEGORIES:Happy Hour
GEO:26.1791207;-97.9613296
X-APPLE-STRUCTURED-LOCATION;VALUE=URI;X-ADDRESS=Snow to Sun RV Resort 1701 N. International Blvd. Weslaco TX United States;X-APPLE-RADIUS=500;X-TITLE=1701 N. International Blvd.:geo:-97.9613296,26.1791207
END:VEVENT
BEGIN:VEVENT
DTSTART;TZID=America/Chicago:20260516T190000
DTEND;TZID=America/Chicago:20260516T210000
DTSTAMP:20260423T101019
CREATED:20260325T174921Z
LAST-MODIFIED:20260325T174929Z
UID:10006906-1778958000-1778965200@welcomehomergv.com
SUMMARY:Dance w/Steven May & The Southern Knights
DESCRIPTION:
URL:https://welcomehomergv.com/event/dance-w-steven-may-the-southern-knights-5/
LOCATION:Snow to Sun RV Resort\, 1701 N. International Blvd.\, Weslaco\, TX\, United States
CATEGORIES:Dances
GEO:26.1791207;-97.9613296
X-APPLE-STRUCTURED-LOCATION;VALUE=URI;X-ADDRESS=Snow to Sun RV Resort 1701 N. International Blvd. Weslaco TX United States;X-APPLE-RADIUS=500;X-TITLE=1701 N. International Blvd.:geo:-97.9613296,26.1791207
END:VEVENT
BEGIN:VEVENT
DTSTART;TZID=America/Chicago:20260518T150000
DTEND;TZID=America/Chicago:20260518T163000
DTSTAMP:20260423T101019
CREATED:20260325T182213Z
LAST-MODIFIED:20260325T182216Z
UID:10006941-1779116400-1779121800@welcomehomergv.com
SUMMARY:Happy Hour w/Diego & Edith
DESCRIPTION:
URL:https://welcomehomergv.com/event/happy-hour-w-diego-edith-10/
LOCATION:Snow to Sun RV Resort\, 1701 N. International Blvd.\, Weslaco\, TX\, United States
CATEGORIES:Happy Hour
GEO:26.1791207;-97.9613296
X-APPLE-STRUCTURED-LOCATION;VALUE=URI;X-ADDRESS=Snow to Sun RV Resort 1701 N. International Blvd. Weslaco TX United States;X-APPLE-RADIUS=500;X-TITLE=1701 N. International Blvd.:geo:-97.9613296,26.1791207
END:VEVENT
BEGIN:VEVENT
DTSTART;TZID=America/Chicago:20260523T190000
DTEND;TZID=America/Chicago:20260523T210000
DTSTAMP:20260423T101019
CREATED:20260325T174922Z
LAST-MODIFIED:20260325T174929Z
UID:10006907-1779562800-1779570000@welcomehomergv.com
SUMMARY:Dance w/Ron Moshier
DESCRIPTION:
URL:https://welcomehomergv.com/event/dance-w-ron-moshier-6/
LOCATION:Snow to Sun RV Resort\, 1701 N. International Blvd.\, Weslaco\, TX\, United States
CATEGORIES:Dances
GEO:26.1791207;-97.9613296
X-APPLE-STRUCTURED-LOCATION;VALUE=URI;X-ADDRESS=Snow to Sun RV Resort 1701 N. International Blvd. Weslaco TX United States;X-APPLE-RADIUS=500;X-TITLE=1701 N. International Blvd.:geo:-97.9613296,26.1791207
END:VEVENT
BEGIN:VEVENT
DTSTART;TZID=America/Chicago:20260525T150000
DTEND;TZID=America/Chicago:20260525T163000
DTSTAMP:20260423T101019
CREATED:20260325T182214Z
LAST-MODIFIED:20260325T182216Z
UID:10006942-1779721200-1779726600@welcomehomergv.com
SUMMARY:Happy Hour w/Diego & Edith
DESCRIPTION:
URL:https://welcomehomergv.com/event/happy-hour-w-diego-edith-11/
LOCATION:Snow to Sun RV Resort\, 1701 N. International Blvd.\, Weslaco\, TX\, United States
CATEGORIES:Happy Hour
GEO:26.1791207;-97.9613296
X-APPLE-STRUCTURED-LOCATION;VALUE=URI;X-ADDRESS=Snow to Sun RV Resort 1701 N. International Blvd. Weslaco TX United States;X-APPLE-RADIUS=500;X-TITLE=1701 N. International Blvd.:geo:-97.9613296,26.1791207
END:VEVENT
BEGIN:VEVENT
DTSTART;TZID=America/Chicago:20260530T190000
DTEND;TZID=America/Chicago:20260530T210000
DTSTAMP:20260423T101019
CREATED:20260325T174923Z
LAST-MODIFIED:20260325T174929Z
UID:10006908-1780167600-1780174800@welcomehomergv.com
SUMMARY:Dance w/Steven May & The Southern Knights
DESCRIPTION:
URL:https://welcomehomergv.com/event/dance-w-steven-may-the-southern-knights-6/
LOCATION:Snow to Sun RV Resort\, 1701 N. International Blvd.\, Weslaco\, TX\, United States
CATEGORIES:Dances
GEO:26.1791207;-97.9613296
X-APPLE-STRUCTURED-LOCATION;VALUE=URI;X-ADDRESS=Snow to Sun RV Resort 1701 N. International Blvd. Weslaco TX United States;X-APPLE-RADIUS=500;X-TITLE=1701 N. International Blvd.:geo:-97.9613296,26.1791207
END:VEVENT
BEGIN:VEVENT
DTSTART;TZID=America/Chicago:20260601T150000
DTEND;TZID=America/Chicago:20260601T163000
DTSTAMP:20260423T101019
CREATED:20260325T182215Z
LAST-MODIFIED:20260325T182216Z
UID:10006943-1780326000-1780331400@welcomehomergv.com
SUMMARY:Happy Hour w/Diego & Edith
DESCRIPTION:
URL:https://welcomehomergv.com/event/happy-hour-w-diego-edith-12/
LOCATION:Snow to Sun RV Resort\, 1701 N. International Blvd.\, Weslaco\, TX\, United States
CATEGORIES:Happy Hour
GEO:26.1791207;-97.9613296
X-APPLE-STRUCTURED-LOCATION;VALUE=URI;X-ADDRESS=Snow to Sun RV Resort 1701 N. International Blvd. Weslaco TX United States;X-APPLE-RADIUS=500;X-TITLE=1701 N. International Blvd.:geo:-97.9613296,26.1791207
END:VEVENT
BEGIN:VEVENT
DTSTART;TZID=America/Chicago:20260606T190000
DTEND;TZID=America/Chicago:20260606T210000
DTSTAMP:20260423T101019
CREATED:20260325T174924Z
LAST-MODIFIED:20260325T174929Z
UID:10006909-1780772400-1780779600@welcomehomergv.com
SUMMARY:Dance w/Steven May & The Southern Knights
DESCRIPTION:
URL:https://welcomehomergv.com/event/dance-w-steven-may-the-southern-knights-7/
LOCATION:Snow to Sun RV Resort\, 1701 N. International Blvd.\, Weslaco\, TX\, United States
CATEGORIES:Dances
GEO:26.1791207;-97.9613296
X-APPLE-STRUCTURED-LOCATION;VALUE=URI;X-ADDRESS=Snow to Sun RV Resort 1701 N. International Blvd. Weslaco TX United States;X-APPLE-RADIUS=500;X-TITLE=1701 N. International Blvd.:geo:-97.9613296,26.1791207
END:VEVENT
BEGIN:VEVENT
DTSTART;TZID=America/Chicago:20260608T150000
DTEND;TZID=America/Chicago:20260608T163000
DTSTAMP:20260423T101019
CREATED:20260325T182216Z
LAST-MODIFIED:20260325T182216Z
UID:10006944-1780930800-1780936200@welcomehomergv.com
SUMMARY:Happy Hour w/Diego & Edith
DESCRIPTION:
URL:https://welcomehomergv.com/event/happy-hour-w-diego-edith-13/
LOCATION:Snow to Sun RV Resort\, 1701 N. International Blvd.\, Weslaco\, TX\, United States
CATEGORIES:Happy Hour
GEO:26.1791207;-97.9613296
X-APPLE-STRUCTURED-LOCATION;VALUE=URI;X-ADDRESS=Snow to Sun RV Resort 1701 N. International Blvd. Weslaco TX United States;X-APPLE-RADIUS=500;X-TITLE=1701 N. International Blvd.:geo:-97.9613296,26.1791207
END:VEVENT
BEGIN:VEVENT
DTSTART;TZID=America/Chicago:20260613T190000
DTEND;TZID=America/Chicago:20260613T210000
DTSTAMP:20260423T101019
CREATED:20260325T174925Z
LAST-MODIFIED:20260325T174929Z
UID:10006910-1781377200-1781384400@welcomehomergv.com
SUMMARY:Dance w/Steven May & The Southern Knights
DESCRIPTION:
URL:https://welcomehomergv.com/event/dance-w-steven-may-the-southern-knights-8/
LOCATION:Snow to Sun RV Resort\, 1701 N. International Blvd.\, Weslaco\, TX\, United States
CATEGORIES:Dances
GEO:26.1791207;-97.9613296
X-APPLE-STRUCTURED-LOCATION;VALUE=URI;X-ADDRESS=Snow to Sun RV Resort 1701 N. International Blvd. Weslaco TX United States;X-APPLE-RADIUS=500;X-TITLE=1701 N. International Blvd.:geo:-97.9613296,26.1791207
END:VEVENT
BEGIN:VEVENT
DTSTART;TZID=America/Chicago:20260615T150000
DTEND;TZID=America/Chicago:20260615T163000
DTSTAMP:20260423T101019
CREATED:20260325T182226Z
LAST-MODIFIED:20260325T182239Z
UID:10006945-1781535600-1781541000@welcomehomergv.com
SUMMARY:Happy Hour w/Diego & Edith
DESCRIPTION:
URL:https://welcomehomergv.com/event/happy-hour-w-diego-edith-14/
LOCATION:Snow to Sun RV Resort\, 1701 N. International Blvd.\, Weslaco\, TX\, United States
CATEGORIES:Happy Hour
GEO:26.1791207;-97.9613296
X-APPLE-STRUCTURED-LOCATION;VALUE=URI;X-ADDRESS=Snow to Sun RV Resort 1701 N. International Blvd. Weslaco TX United States;X-APPLE-RADIUS=500;X-TITLE=1701 N. International Blvd.:geo:-97.9613296,26.1791207
END:VEVENT
BEGIN:VEVENT
DTSTART;TZID=America/Chicago:20260620T190000
DTEND;TZID=America/Chicago:20260620T210000
DTSTAMP:20260423T101019
CREATED:20260325T174926Z
LAST-MODIFIED:20260325T174929Z
UID:10006911-1781982000-1781989200@welcomehomergv.com
SUMMARY:Dance w/Vinyl Spin
DESCRIPTION:
URL:https://welcomehomergv.com/event/dance-w-vinyl-spin/
LOCATION:Snow to Sun RV Resort\, 1701 N. International Blvd.\, Weslaco\, TX\, United States
CATEGORIES:Dances
GEO:26.1791207;-97.9613296
X-APPLE-STRUCTURED-LOCATION;VALUE=URI;X-ADDRESS=Snow to Sun RV Resort 1701 N. International Blvd. Weslaco TX United States;X-APPLE-RADIUS=500;X-TITLE=1701 N. International Blvd.:geo:-97.9613296,26.1791207
END:VEVENT
BEGIN:VEVENT
DTSTART;TZID=America/Chicago:20260622T150000
DTEND;TZID=America/Chicago:20260622T163000
DTSTAMP:20260423T101019
CREATED:20260325T182227Z
LAST-MODIFIED:20260325T182239Z
UID:10006946-1782140400-1782145800@welcomehomergv.com
SUMMARY:Happy Hour w/Diego & Edith
DESCRIPTION:
URL:https://welcomehomergv.com/event/happy-hour-w-diego-edith-15/
LOCATION:Snow to Sun RV Resort\, 1701 N. International Blvd.\, Weslaco\, TX\, United States
CATEGORIES:Happy Hour
GEO:26.1791207;-97.9613296
X-APPLE-STRUCTURED-LOCATION;VALUE=URI;X-ADDRESS=Snow to Sun RV Resort 1701 N. International Blvd. Weslaco TX United States;X-APPLE-RADIUS=500;X-TITLE=1701 N. International Blvd.:geo:-97.9613296,26.1791207
END:VEVENT
BEGIN:VEVENT
DTSTART;TZID=America/Chicago:20260627T190000
DTEND;TZID=America/Chicago:20260627T210000
DTSTAMP:20260423T101019
CREATED:20260325T174927Z
LAST-MODIFIED:20260325T174929Z
UID:10006912-1782586800-1782594000@welcomehomergv.com
SUMMARY:Dance w/Steven May & The Southern Knights
DESCRIPTION:
URL:https://welcomehomergv.com/event/dance-w-steven-may-the-southern-knights-9/
LOCATION:Snow to Sun RV Resort\, 1701 N. International Blvd.\, Weslaco\, TX\, United States
CATEGORIES:Dances
GEO:26.1791207;-97.9613296
X-APPLE-STRUCTURED-LOCATION;VALUE=URI;X-ADDRESS=Snow to Sun RV Resort 1701 N. International Blvd. Weslaco TX United States;X-APPLE-RADIUS=500;X-TITLE=1701 N. International Blvd.:geo:-97.9613296,26.1791207
END:VEVENT
BEGIN:VEVENT
DTSTART;TZID=America/Chicago:20260629T150000
DTEND;TZID=America/Chicago:20260629T163000
DTSTAMP:20260423T101019
CREATED:20260325T182228Z
LAST-MODIFIED:20260325T182239Z
UID:10006947-1782745200-1782750600@welcomehomergv.com
SUMMARY:Happy Hour w/Diego & Edith
DESCRIPTION:
URL:https://welcomehomergv.com/event/happy-hour-w-diego-edith-16/
LOCATION:Snow to Sun RV Resort\, 1701 N. International Blvd.\, Weslaco\, TX\, United States
CATEGORIES:Happy Hour
GEO:26.1791207;-97.9613296
X-APPLE-STRUCTURED-LOCATION;VALUE=URI;X-ADDRESS=Snow to Sun RV Resort 1701 N. International Blvd. Weslaco TX United States;X-APPLE-RADIUS=500;X-TITLE=1701 N. International Blvd.:geo:-97.9613296,26.1791207
END:VEVENT
BEGIN:VEVENT
DTSTART;TZID=America/Chicago:20260706T150000
DTEND;TZID=America/Chicago:20260706T163000
DTSTAMP:20260423T101019
CREATED:20260325T182229Z
LAST-MODIFIED:20260325T182239Z
UID:10006948-1783350000-1783355400@welcomehomergv.com
SUMMARY:Happy Hour w/Diego & Edith
DESCRIPTION:
URL:https://welcomehomergv.com/event/happy-hour-w-diego-edith-17/
LOCATION:Snow to Sun RV Resort\, 1701 N. International Blvd.\, Weslaco\, TX\, United States
CATEGORIES:Happy Hour
GEO:26.1791207;-97.9613296
X-APPLE-STRUCTURED-LOCATION;VALUE=URI;X-ADDRESS=Snow to Sun RV Resort 1701 N. International Blvd. Weslaco TX United States;X-APPLE-RADIUS=500;X-TITLE=1701 N. International Blvd.:geo:-97.9613296,26.1791207
END:VEVENT
BEGIN:VEVENT
DTSTART;TZID=America/Chicago:20260711T190000
DTEND;TZID=America/Chicago:20260711T210000
DTSTAMP:20260423T101019
CREATED:20260325T174928Z
LAST-MODIFIED:20260325T174929Z
UID:10006913-1783796400-1783803600@welcomehomergv.com
SUMMARY:Dance w/Steven May & The Southern Knights
DESCRIPTION:
URL:https://welcomehomergv.com/event/dance-w-steven-may-the-southern-knights-10/
LOCATION:Snow to Sun RV Resort\, 1701 N. International Blvd.\, Weslaco\, TX\, United States
CATEGORIES:Dances
GEO:26.1791207;-97.9613296
X-APPLE-STRUCTURED-LOCATION;VALUE=URI;X-ADDRESS=Snow to Sun RV Resort 1701 N. International Blvd. Weslaco TX United States;X-APPLE-RADIUS=500;X-TITLE=1701 N. International Blvd.:geo:-97.9613296,26.1791207
END:VEVENT
BEGIN:VEVENT
DTSTART;TZID=America/Chicago:20260713T150000
DTEND;TZID=America/Chicago:20260713T163000
DTSTAMP:20260423T101019
CREATED:20260325T182229Z
LAST-MODIFIED:20260325T182239Z
UID:10006949-1783954800-1783960200@welcomehomergv.com
SUMMARY:Happy Hour w/Diego & Edith
DESCRIPTION:
URL:https://welcomehomergv.com/event/happy-hour-w-diego-edith-18/
LOCATION:Snow to Sun RV Resort\, 1701 N. International Blvd.\, Weslaco\, TX\, United States
CATEGORIES:Happy Hour
GEO:26.1791207;-97.9613296
X-APPLE-STRUCTURED-LOCATION;VALUE=URI;X-ADDRESS=Snow to Sun RV Resort 1701 N. International Blvd. Weslaco TX United States;X-APPLE-RADIUS=500;X-TITLE=1701 N. International Blvd.:geo:-97.9613296,26.1791207
END:VEVENT
BEGIN:VEVENT
DTSTART;TZID=America/Chicago:20260718T190000
DTEND;TZID=America/Chicago:20260718T210000
DTSTAMP:20260423T101019
CREATED:20260325T174928Z
LAST-MODIFIED:20260325T174929Z
UID:10006914-1784401200-1784408400@welcomehomergv.com
SUMMARY:Dance w/Vinyl Spin
DESCRIPTION:
URL:https://welcomehomergv.com/event/dance-w-vinyl-spin-4/
LOCATION:Snow to Sun RV Resort\, 1701 N. International Blvd.\, Weslaco\, TX\, United States
CATEGORIES:Dances
GEO:26.1791207;-97.9613296
X-APPLE-STRUCTURED-LOCATION;VALUE=URI;X-ADDRESS=Snow to Sun RV Resort 1701 N. International Blvd. Weslaco TX United States;X-APPLE-RADIUS=500;X-TITLE=1701 N. International Blvd.:geo:-97.9613296,26.1791207
END:VEVENT
BEGIN:VEVENT
DTSTART;TZID=America/Chicago:20260720T150000
DTEND;TZID=America/Chicago:20260720T163000
DTSTAMP:20260423T101019
CREATED:20260325T182230Z
LAST-MODIFIED:20260325T182239Z
UID:10006950-1784559600-1784565000@welcomehomergv.com
SUMMARY:Happy Hour w/Diego & Edith
DESCRIPTION:
URL:https://welcomehomergv.com/event/happy-hour-w-diego-edith-19/
LOCATION:Snow to Sun RV Resort\, 1701 N. International Blvd.\, Weslaco\, TX\, United States
CATEGORIES:Happy Hour
GEO:26.1791207;-97.9613296
X-APPLE-STRUCTURED-LOCATION;VALUE=URI;X-ADDRESS=Snow to Sun RV Resort 1701 N. International Blvd. Weslaco TX United States;X-APPLE-RADIUS=500;X-TITLE=1701 N. International Blvd.:geo:-97.9613296,26.1791207
END:VEVENT
BEGIN:VEVENT
DTSTART;TZID=America/Chicago:20260725T190000
DTEND;TZID=America/Chicago:20260725T210000
DTSTAMP:20260423T101019
CREATED:20260325T174940Z
LAST-MODIFIED:20260325T174953Z
UID:10006915-1785006000-1785013200@welcomehomergv.com
SUMMARY:Dance w/Steven May & The Southern Knights
DESCRIPTION:
URL:https://welcomehomergv.com/event/dance-w-steven-may-the-southern-knights-11/
LOCATION:Snow to Sun RV Resort\, 1701 N. International Blvd.\, Weslaco\, TX\, United States
CATEGORIES:Dances
GEO:26.1791207;-97.9613296
X-APPLE-STRUCTURED-LOCATION;VALUE=URI;X-ADDRESS=Snow to Sun RV Resort 1701 N. International Blvd. Weslaco TX United States;X-APPLE-RADIUS=500;X-TITLE=1701 N. International Blvd.:geo:-97.9613296,26.1791207
END:VEVENT
BEGIN:VEVENT
DTSTART;TZID=America/Chicago:20260727T150000
DTEND;TZID=America/Chicago:20260727T163000
DTSTAMP:20260423T101019
CREATED:20260325T182231Z
LAST-MODIFIED:20260325T182239Z
UID:10006951-1785164400-1785169800@welcomehomergv.com
SUMMARY:Happy Hour w/Diego & Edith
DESCRIPTION:
URL:https://welcomehomergv.com/event/happy-hour-w-diego-edith-20/
LOCATION:Snow to Sun RV Resort\, 1701 N. International Blvd.\, Weslaco\, TX\, United States
CATEGORIES:Happy Hour
GEO:26.1791207;-97.9613296
X-APPLE-STRUCTURED-LOCATION;VALUE=URI;X-ADDRESS=Snow to Sun RV Resort 1701 N. International Blvd. Weslaco TX United States;X-APPLE-RADIUS=500;X-TITLE=1701 N. International Blvd.:geo:-97.9613296,26.1791207
END:VEVENT
BEGIN:VEVENT
DTSTART;TZID=America/Chicago:20260801T190000
DTEND;TZID=America/Chicago:20260801T210000
DTSTAMP:20260423T101019
CREATED:20260325T174941Z
LAST-MODIFIED:20260325T174953Z
UID:10006916-1785610800-1785618000@welcomehomergv.com
SUMMARY:Dance w/Vinyl Spin
DESCRIPTION:
URL:https://welcomehomergv.com/event/dance-w-vinyl-spin-5/
LOCATION:Snow to Sun RV Resort\, 1701 N. International Blvd.\, Weslaco\, TX\, United States
CATEGORIES:Dances
GEO:26.1791207;-97.9613296
X-APPLE-STRUCTURED-LOCATION;VALUE=URI;X-ADDRESS=Snow to Sun RV Resort 1701 N. International Blvd. Weslaco TX United States;X-APPLE-RADIUS=500;X-TITLE=1701 N. International Blvd.:geo:-97.9613296,26.1791207
END:VEVENT
BEGIN:VEVENT
DTSTART;TZID=America/Chicago:20260803T150000
DTEND;TZID=America/Chicago:20260803T163000
DTSTAMP:20260423T101019
CREATED:20260325T182232Z
LAST-MODIFIED:20260325T182239Z
UID:10006952-1785769200-1785774600@welcomehomergv.com
SUMMARY:Happy Hour w/Diego & Edith
DESCRIPTION:
URL:https://welcomehomergv.com/event/happy-hour-w-diego-edith-21/
LOCATION:Snow to Sun RV Resort\, 1701 N. International Blvd.\, Weslaco\, TX\, United States
CATEGORIES:Happy Hour
GEO:26.1791207;-97.9613296
X-APPLE-STRUCTURED-LOCATION;VALUE=URI;X-ADDRESS=Snow to Sun RV Resort 1701 N. International Blvd. Weslaco TX United States;X-APPLE-RADIUS=500;X-TITLE=1701 N. International Blvd.:geo:-97.9613296,26.1791207
END:VEVENT
BEGIN:VEVENT
DTSTART;TZID=America/Chicago:20260808T190000
DTEND;TZID=America/Chicago:20260808T210000
DTSTAMP:20260423T101019
CREATED:20260325T174942Z
LAST-MODIFIED:20260325T174953Z
UID:10006917-1786215600-1786222800@welcomehomergv.com
SUMMARY:Dance w/Steven May & The Southern Knights
DESCRIPTION:
URL:https://welcomehomergv.com/event/dance-w-steven-may-the-southern-knights-12/
LOCATION:Snow to Sun RV Resort\, 1701 N. International Blvd.\, Weslaco\, TX\, United States
CATEGORIES:Dances
GEO:26.1791207;-97.9613296
X-APPLE-STRUCTURED-LOCATION;VALUE=URI;X-ADDRESS=Snow to Sun RV Resort 1701 N. International Blvd. Weslaco TX United States;X-APPLE-RADIUS=500;X-TITLE=1701 N. International Blvd.:geo:-97.9613296,26.1791207
END:VEVENT
END:VCALENDAR